BEGIN:VCALENDAR
VERSION:2.0
PRODID:-//wp-events-plugin.com//7.2.3.1//EN
TZID:America/Chicago
X-WR-TIMEZONE:America/Chicago
BEGIN:VEVENT
UID:0-324@witruck.org
DTSTART;TZID=America/Chicago:20221209T170000
DTEND;TZID=America/Chicago:20221209T210000
DTSTAMP:20221031T142045Z
URL:https://witruck.org/events/wsmc-holiday-networking-party-2/
SUMMARY:WSMC Holiday Networking Party
DESCRIPTION:[vc_row][vc_column][vc_column_text]\nWSMC Meeting will begin at
  4:00 P.M.\n[/vc_column_text][/vc_column][/vc_row][vc_row][vc_column][vc_s
 ingle_image image="22926" img_size="large" alignment="center"][/vc_column]
 [/vc_row][vc_row][vc_column width="1/2"][ult_buttons btn_title="Register H
 ere (Credit Card)" btn_link="url:https%3A%2F%2Fsecurepayment.link%2Fwitruc
 k%2Fwsmc-meeting-holiday-networking-credit-card%2F" btn_size="ubtn-large" 
 btn_title_color="#ffffff" btn_bg_color="#963021" icon_size="32" btn_icon_p
 os="ubtn-sep-icon-at-left" btn_font_style="font-weight:bold\;" btn_font_si
 ze="desktop:18px\;"][/vc_column][vc_column width="1/2"][ult_buttons btn_ti
 tle="Register Here (Invoice)" btn_link="url:https%3A%2F%2Fsecurepayment.li
 nk%2Fwitruck%2Fwsmc-meeting-holiday-networking-send-invoice%2F" btn_align=
 "ubtn-right" btn_size="ubtn-large" btn_title_color="#ffffff" btn_bg_color=
 "#932222" icon_size="32" btn_icon_pos="ubtn-sep-icon-at-left" btn_font_sty
 le="font-weight:bold\;" btn_font_size="desktop:18px\;"][/vc_column][/vc_ro
 w][vc_row][vc_column][ult_buttons btn_title="REGISTER HERE TO JOIN US VIA 
 ZOOM" btn_link="url:https%3A%2F%2Fus02web.zoom.us%2Fmeeting%2Fregister%2Ft
 ZcuceurrT8jHNAOSoQU6TV5f7t5KoB0fCAq" btn_align="ubtn-center" btn_size="ubt
 n-large" btn_title_color="#ffffff" btn_bg_color="#9b2020" icon_size="32" b
 tn_icon_pos="ubtn-sep-icon-at-left" btn_font_style="font-weight:bold\;" bt
 n_font_size="desktop:18px\;"][/vc_column][/vc_row][vc_row][vc_column][vc_s
 ingle_image image="22928" img_size="large" alignment="center"][/vc_column]
 [/vc_row][vc_row][vc_column][vc_column_text]Reservations\n\nRoom block rat
 e: $119/night\nKing bed\, deluxe room\n\nHow to reserve?\n\nCall in: 920-7
 33-8000\nRoom block name: Wisconsin Motor Carriers Association\n\nGroup Co
 de: WMCH\n\n[/vc_column_text][/vc_column][/vc_row][vc_row][vc_column][vc_s
 ingle_image image="22929" img_size="large" alignment="center"][/vc_column]
 [/vc_row][vc_row][vc_column][vc_single_image image="22930" img_size="large
 " alignment="center"][/vc_column][/vc_row][vc_row][vc_column][vc_single_im
 age image="22931" img_size="large" alignment="center"][/vc_column][/vc_row
 ]
LOCATION:Hilton Appleton Paper Valley\, 333 West College Avenue\, Appleton\
 , WI\, 54911\, United States
GEO:44.261513;-88.409409
X-APPLE-STRUCTURED-LOCATION;VALUE=URI;X-ADDRESS=333 West College Avenue\, A
 ppleton\, WI\, 54911\, United States;X-APPLE-RADIUS=100;X-TITLE=Hilton App
 leton Paper Valley:geo:44.261513,-88.409409
END:VEVENT
BEGIN:VTIMEZONE
TZID:America/Chicago
X-LIC-LOCATION:America/Chicago
BEGIN:STANDARD
DTSTART:20221106T010000
TZOFFSETFROM:-0500
TZOFFSETTO:-0600
TZNAME:CST
END:STANDARD
END:VTIMEZONE
END:VCALENDAR