BEGIN:VCALENDAR
VERSION:2.0
PRODID:-//wp-events-plugin.com//7.2.3.1//EN
TZID:America/Chicago
X-WR-TIMEZONE:America/Chicago
BEGIN:VEVENT
UID:1-43@witruck.org
DTSTART:20160226T100000Z
DTEND:20160226T130000Z
DTSTAMP:20200128T142726Z
URL:https://witruck.org/events/elit-seminar-lobbying-your-legislator/
SUMMARY:ELIT Seminar: Lobbying Your Legislator
DESCRIPTION:Members of the Emerging Leaders in Transportation (ELIT) will h
 ave a unique learning experience at the Wisconsin State Capitol on how to 
 best lobby their legislator.  The two hour seminar will include presentat
 ions\, discussions\, Q &amp\; A\, legislative staff visits\, catered lunch
 \, and a tour of the State Capitol.  WMCA Vice President Dan Johnson will
  lead the seminar.  Dan spent 18 years in the Wisconsin Legislature\, bot
 h in the State Assembly and Senate\, finishing his legislative career as a
  Senate Chief of Staff.  Dan has extensive knowledge of the legislative p
 rocess and will share his insight with attendees.  There is no charge for
  this seminar\, but only open to current ELIT members.\nAgenda\n\n10:00 a.
 m.  Welcome and Introductions (coffee and pastries provided)\n\n10:05  
        Overview of the WI State Legislature\, Legislative turnover\,
  House and Senate party split\n\n10:15          Public Opinion of
  Legislators\n\n10:25          Overview of State Budget Process\,
  Where $$ Comes From and Where It Goes\n\n10:45          How a Bi
 ll Becomes a Law and the Legislative Process\n\n11:00          Ho
 w to Effectively Lobby Your Legislator\, What Works and What Doesn't Work\
 n\n11:20          How to Build Relationships with Legislators\n\n
 11:30          Legislative Staff (or hopefully a Legislator or tw
 o) Address the Group\n\n11:45          Questions and Answers\n\n1
 2:00         Lunch (provided in room\, catered)\n\n1:00     
       Capitol Tour with tour guide\n\n2:00           Discus
 s next meeting\, and adjourn\n\n&nbsp\;\n\nPLEASE SIGN UP BELOW\n\n[gravit
 yform id="32" title="true" description="true"]
LOCATION:M3 Insurance\, 828 John Nolen Dr\, Madison\, WI\, 53713\, United S
 tates
GEO:43.0459688;-89.3714991
X-APPLE-STRUCTURED-LOCATION;VALUE=URI;X-ADDRESS=828 John Nolen Dr\, Madison
 \, WI\, 53713\, United States;X-APPLE-RADIUS=100;X-TITLE=M3 Insurance:geo:
 43.0459688,-89.3714991
END:VEVENT
END:VCALENDAR