BEGIN:VCALENDAR
VERSION:2.0
PRODID:-//wp-events-plugin.com//7.2.3.1//EN
TZID:America/Chicago
X-WR-TIMEZONE:America/Chicago
BEGIN:VEVENT
UID:0-403@witruck.org
DTSTART;TZID=America/Chicago:20250305T150000
DTEND;TZID=America/Chicago:20250305T230000
DTSTAMP:20250227T154648Z
URL:https://witruck.org/events/wmca-bucks-board-meeting/
SUMMARY:WMCA Bucks Board Meeting
DESCRIPTION:[vc_row][vc_column][vc_single_image image="26690" img_size="LAR
 GE" alignment="center" css=""][vc_column_text css=""]\nAs of February 26th
 \, all tickets for the event are $250.  \n[/vc_column_text][/vc_column][
 /vc_row][vc_row][vc_column width="1/3"][vc_column_text css=""]\nRegister\n
 [/vc_column_text][ult_buttons btn_title="REGISTER AND PAY BY CREDIT CARD" 
 btn_link="url:https%3A%2F%2Fsecurepayment.link%2Fwitruck%2Fwmca-bucks-boar
 d-meeting-pre-register%2F" btn_align="ubtn-center" btn_title_color="#FFFFF
 F" btn_bg_color="#1E73BE" icon_size="32" btn_icon_pos="ubtn-sep-icon-at-le
 ft" btn_font_style="font-weight:bold\;" btn_font_size="desktop:18px\;"][ul
 t_buttons btn_title="REGISTER BY INVOICE OR FOR THE BOARD MEETING ONLY" bt
 n_link="url:https%3A%2F%2Fsecurepayment.link%2Fwitruck%2Fwmca-bucks-board-
 meeting-invoice%2F" btn_align="ubtn-center" btn_title_color="#FFFFFF" btn_
 bg_color="#1E73BE" icon_size="32" btn_icon_pos="ubtn-sep-icon-at-left" btn
 _font_style="font-weight:bold\;" btn_font_size="desktop:18px\;"][vc_column
 _text css=""]\n $250 as of February 26\nPrice includes food\, drink\, par
 king\, Bucks tour and one game ticket.\nThere is no charge to attend the b
 oard meeting\, but only members and their guests with tickets may remain a
 fter the meeting.\nParking is not included if you only attend the board me
 eting.\n[/vc_column_text][/vc_column][vc_column width="1/3"][vc_column_tex
 t css=""]\nAgenda\n[/vc_column_text][vc_column_text css=""]\n3:00 P.M. - W
 MCA Board Meeting\n5:00 P.M. - Bucks Tour\n6:30 P.M. - Watch Warmups\n7:30
  P.M. - Game Time\nOur Board Meeting and tickets for the game are located 
 at the Potawatomi Club Level.\n[/vc_column_text][vc_single_image image="26
 024" img_size="large" alignment="center" css=""][/vc_column][vc_column wid
 th="1/3"][vc_column_text css=""]\nSponsor\n[/vc_column_text][ult_buttons b
 tn_title="SPONSOR - PAY BY CREDIT CARD" btn_link="url:https%3A%2F%2Fsecure
 payment.link%2Fwitruck%2Fwmca-bucks-board-meeting-sponsor%2F" btn_align="u
 btn-center" btn_title_color="#FFFFFF" btn_bg_color="#25460E" icon_size="32
 " btn_icon_pos="ubtn-sep-icon-at-left" btn_font_style="font-weight:bold\;"
  btn_font_size="desktop:18px\;"][ult_buttons btn_title="SPONSOR AND REQUES
 T AN INVOICE" btn_link="url:https%3A%2F%2Fsecurepayment.link%2Fwitruck%2Fw
 mca-bucks-board-meeting-sponsor-invoice%2F" btn_align="ubtn-center" btn_ti
 tle_color="#FFFFFF" btn_bg_color="#25460E" icon_size="32" btn_icon_pos="ub
 tn-sep-icon-at-left" btn_font_style="font-weight:bold\;" btn_font_size="de
 sktop:18px\;"][vc_column_text css=""]\nMVP Sponsor - $2\,000 (Includes 3 t
 ickets)\nSlam Dunk Sponsor - $1\,500 (Includes 2 tickets)\nThree Point Spo
 nsor - $1\,000 (Includes 1 ticket)\nJump Shot Sponsor - $750\nLay Up Spons
 or - $500\nFree Throw Sponsor - $250\n[/vc_column_text][/vc_column][/vc_ro
 w][vc_row][vc_column][vc_column_text css=""]\nHotel Options\n[/vc_column_t
 ext][vc_column_text css=""]\nWe have no room blocks for this event\, these
  are just suggestions in the area.\n[/vc_column_text][/vc_column][/vc_row]
 [vc_row][vc_column width="1/2"][vc_column_text css=""]\nAloft Milwaukee Do
 wntown\n[/vc_column_text][vc_single_image image="26191" img_size="medium" 
 alignment="center" css=""][/vc_column][vc_column width="1/2"][vc_column_te
 xt css=""]\nThe Trade\, Autograph Collection\n[/vc_column_text][vc_single_
 image image="26192" img_size="medium" alignment="center" css=""][/vc_colum
 n][/vc_row][vc_row][vc_column][vc_single_image image="26177" img_size="med
 ium" alignment="center" css=""][/vc_column][/vc_row][vc_row][vc_column][vc
 _single_image image="26223" img_size="large" alignment="center" css=""][/v
 c_column][/vc_row][vc_row][vc_column width="1/3"][vc_single_image image="1
 1623" img_size="medium" alignment="center" css=""][/vc_column][vc_column w
 idth="1/3"][vc_single_image image="13685" img_size="medium" alignment="cen
 ter" css=""][/vc_column][vc_column width="1/3"][vc_single_image image="254
 32" img_size="medium" alignment="center" css=""][/vc_column][/vc_row][vc_r
 ow][vc_column width="1/3"][vc_single_image image="26197" img_size="large" 
 css=""][vc_single_image image="22459" img_size="medium" alignment="center"
  css=""][/vc_column][vc_column width="1/3"][vc_single_image image="26196" 
 img_size="large" alignment="center" css=""][vc_single_image image="26621" 
 img_size="full" alignment="center" css=""][/vc_column][vc_column width="1/
 3"][vc_single_image image="26195" img_size="medium" alignment="center" css
 =""][vc_single_image image="15584" img_size="medium" alignment="center" cs
 s=""][/vc_column][/vc_row][vc_row][vc_column width="1/2"][vc_single_image 
 image="26627" img_size="large" alignment="center" css=""][/vc_column][vc_c
 olumn width="1/2"][vc_single_image image="26630" img_size="large" alignmen
 t="center" css=""][/vc_column][/vc_row][vc_row][vc_column width="1/4"][vc_
 single_image image="25459" img_size="full" alignment="center" css=""][vc_s
 ingle_image image="26679" img_size="full" alignment="right" css=""][/vc_co
 lumn][vc_column width="1/4"][vc_single_image image="25822" img_size="large
 " alignment="center" css=""][/vc_column][vc_column width="1/4"][vc_single_
 image image="25834" img_size="medium" alignment="center" css=""][/vc_colum
 n][vc_column width="1/4"][vc_single_image image="25412" img_size="medium" 
 alignment="center" css=""][/vc_column][/vc_row]
LOCATION:Fiserv Forum\, 1111 Vel R. Phillips Avenue\, Milwaukee\, WI\, 5320
 3\, United States
GEO:43.044724;-87.918292
X-APPLE-STRUCTURED-LOCATION;VALUE=URI;X-ADDRESS=1111 Vel R. Phillips Avenue
 \, Milwaukee\, WI\, 53203\, United States;X-APPLE-RADIUS=100;X-TITLE=Fiser
 v Forum:geo:43.044724,-87.918292
END:VEVENT
BEGIN:VTIMEZONE
TZID:America/Chicago
X-LIC-LOCATION:America/Chicago
BEGIN:STANDARD
DTSTART:20241103T010000
TZOFFSETFROM:-0500
TZOFFSETTO:-0600
TZNAME:CST
END:STANDARD
END:VTIMEZONE
END:VCALENDAR