BEGIN:VCALENDAR
VERSION:2.0
PRODID:-//wp-events-plugin.com//7.2.3.1//EN
TZID:America/Chicago
X-WR-TIMEZONE:America/Chicago
BEGIN:VEVENT
UID:0-344@witruck.org
DTSTART;TZID=America/Chicago:20230314T091500
DTEND;TZID=America/Chicago:20230314T130000
DTSTAMP:20230313T140245Z
URL:https://witruck.org/events/wmca-board-of-directors-meeting-4/
SUMMARY:WMCA Board of Directors Meeting
DESCRIPTION:[vc_row][vc_column][vc_separator][/vc_column][/vc_row][vc_row][
 vc_column][vc_single_image image="23563" img_size="large" alignment="cente
 r"][/vc_column][/vc_row][vc_row][vc_column width="1/2"][vc_column_text]\nH
 osted and Sponsored by: \n[/vc_column_text][vc_single_image image="14917
 " img_size="medium" alignment="center"][vc_column_text]\nLocation:\n[/vc_c
 olumn_text][vc_column_text]\nAcuity Insurance\n2800 S. Taylor Dr\,\nSheboy
 gan\, WI 53081\n[/vc_column_text][/vc_column][vc_column width="1/2"][vc_co
 lumn_text]\nAgenda:\n[/vc_column_text][vc_column_text]\n9:15 am – Regist
 ration &amp\; Continental Breakfast\n10:00 am – Board Meeting called to 
 order\n11:00 am – Acuity Insurance presentation\n12:00 pm – Lunch foll
 owed by a tour of the facilities\n[/vc_column_text][vc_column_text]\nLet u
 s know if you'll be joining us!\n[/vc_column_text][ult_buttons btn_title="
 REGISTRATION CLOSED" btn_align="ubtn-center" btn_title_color="#ffffff" btn
 _bg_color="#543613" icon_size="32" btn_icon_pos="ubtn-sep-icon-at-left" bt
 n_font_style="font-weight:bold\;" btn_font_size="desktop:18px\;"][/vc_colu
 mn][/vc_row]
LOCATION:Acuity Insurance\, 2800 S Taylor Dr\, Sheboygan \, Wisconsin\, Uni
 ted States
GEO:43.72676080000001;-87.756956
X-APPLE-STRUCTURED-LOCATION;VALUE=URI;X-ADDRESS=2800 S Taylor Dr\, Sheboyga
 n \, Wisconsin\, United States;X-APPLE-RADIUS=100;X-TITLE=Acuity Insurance
 :geo:43.72676080000001,-87.756956
END:VEVENT
BEGIN:VTIMEZONE
TZID:America/Chicago
X-LIC-LOCATION:America/Chicago
BEGIN:DAYLIGHT
DTSTART:20230312T030000
TZOFFSETFROM:-0600
TZOFFSETTO:-0500
TZNAME:CDT
END:DAYLIGHT
END:VTIMEZONE
END:VCALENDAR