BEGIN:VCALENDAR
VERSION:2.0
PRODID:-//wp-events-plugin.com//7.2.3.1//EN
TZID:America/Chicago
X-WR-TIMEZONE:America/Chicago
BEGIN:VEVENT
UID:0-314@witruck.org
DTSTART;TZID=America/Chicago:20221215T080000
DTEND;TZID=America/Chicago:20221215T130000
DTSTAMP:20220509T210308Z
URL:https://witruck.org/events/wmca-board-of-directors-meeting-3/
SUMMARY:WMCA Board of Directors Meeting
DESCRIPTION:[vc_row][vc_column][vc_single_image image="21826" img_size="ful
 l" alignment="center"][/vc_column][/vc_row][vc_row][vc_column width="1/2"]
 [vc_column_text]\nHosted and Sponsored by: \n[/vc_column_text][vc_single
 _image image="11698" img_size="medium" alignment="center"][vc_column_text]
 \nLocation:\n[/vc_column_text][vc_column_text]\nTruck Country\n5000 Cake P
 arkway\nDeforest\, WI 53532\n[/vc_column_text][/vc_column][vc_column width
 ="1/2"][vc_column_text]\nAgenda:\n[/vc_column_text][vc_column_text]8:00am 
 – Executive Committee\n9:00am – Membership Committee\n9:15am – Reg
 istration &amp\; Continental Breakfast\n10:00am – Board Meeting called t
 o order\n11:15am – Truck Country presentation\n12:00pm – Lunch\nGuest
  speaker: To be announced[/vc_column_text][vc_column_text]\nLet us know if
  you'll be joining us!\n[/vc_column_text][ult_buttons btn_title="Register 
 Here" btn_link="url:https%3A%2F%2Fsecurepayment.link%2Fwitruck%2Fwmca-quar
 terly-board-meeting-attendance%2F" btn_align="ubtn-center" btn_size="ubtn-
 large" btn_title_color="#ffffff" btn_bg_color="#4184bf" icon_size="32" btn
 _icon_pos="ubtn-sep-icon-at-left" btn_font_style="font-weight:bold\;" btn_
 font_size="desktop:16px\;"][/vc_column][/vc_row]
LOCATION:Truck Country\, 5000 Cake Parkway\, Deforest\, WI\, 53532\, United
  States
GEO:43.245411;-89.37951
X-APPLE-STRUCTURED-LOCATION;VALUE=URI;X-ADDRESS=5000 Cake Parkway\, Defores
 t\, WI\, 53532\, United States;X-APPLE-RADIUS=100;X-TITLE=Truck Country:ge
 o:43.245411,-89.37951
END:VEVENT
BEGIN:VTIMEZONE
TZID:America/Chicago
X-LIC-LOCATION:America/Chicago
BEGIN:STANDARD
DTSTART:20221106T010000
TZOFFSETFROM:-0500
TZOFFSETTO:-0600
TZNAME:CST
END:STANDARD
END:VTIMEZONE
END:VCALENDAR