BEGIN:VCALENDAR
VERSION:2.0
PRODID:-//wp-events-plugin.com//7.2.3.1//EN
TZID:America/Chicago
X-WR-TIMEZONE:America/Chicago
BEGIN:VEVENT
UID:0-462@witruck.org
DTSTART;TZID=America/Chicago:20260516T070000
DTEND;TZID=America/Chicago:20260516T150000
DTSTAMP:20260421T164704Z
URL:https://witruck.org/events/wi-truck-technician-competition-2/
SUMMARY:WI Truck Technician Competition
DESCRIPTION:[vc_row][vc_column][vc_single_image image="27557" img_size="ful
 l" alignment="center" css=""][/vc_column][/vc_row][vc_row][vc_column][vc_t
 ta_tabs][vc_tta_section title="SPONSORSHIP LEVELS" tab_id="1771360345854-5
 c058d10-41bb"][vc_column_text css=""]\nSPONSORSHIP LEVELS\n[/vc_column_tex
 t][vc_column_text css=""]\nPlatinum Sponsor - $1\,500\nGold Sponsor - $1\,
 000\nSilver Sponsor - $500\nBronze Sponsor - $250\n[/vc_column_text][ult_b
 uttons btn_title="BECOME A SPONSOR" btn_link="url:https%3A%2F%2Fsecurepaym
 ent.link%2Fwitruck%2Fwi-truck-tech-championship-sponsors-credit-card%2F" b
 tn_align="ubtn-center" btn_size="ubtn-large" btn_title_color="#FFFFFF" btn
 _bg_color="#AE061D" icon_size="32" btn_icon_pos="ubtn-sep-icon-at-left" bt
 n_font_size="desktop:22px\;"][/vc_tta_section][vc_tta_section title="REGIS
 TRATION" tab_id="1771360345861-bca78a41-d30d"][vc_column_text css=""]\nREG
 ISTRATION\n[/vc_column_text][vc_column_text css=""]\nWMCA Member: $80\nNon
  WMCA Member: $250\nStudent: FREE\nBanquet Tickets: Adult $50\n[/vc_colu
 mn_text][ult_buttons btn_title="REGISTER A TECH" btn_link="url:https%3A%2F
 %2Fsecurepayment.link%2Fwitruck%2Fwitrucktechcompetitionentry%2F" btn_alig
 n="ubtn-center" btn_size="ubtn-large" btn_title_color="#FFFFFF" btn_bg_col
 or="#AE061D" icon_size="32" btn_icon_pos="ubtn-sep-icon-at-left" btn_font_
 size="desktop:22px\;"][/vc_tta_section][vc_tta_section title="AWARDS" tab_
 id="1771360398959-adbc28c7-c221"][vc_column_text css=""]\nAWARDS\n[/vc_col
 umn_text][vc_column_text css=""]\n1st Prize All Around - $1\,500\n2nd Priz
 e All Around - $1\,000\n3rd Prize All Around - $500\nAdditionally: Individ
 ual Station Prizes\n[/vc_column_text][/vc_tta_section][vc_tta_section titl
 e="ACCOMODATIONS" tab_id="1771360458214-f2b85922-70be"][vc_column_text css
 =""]\nACCOMODATIONS\n[/vc_column_text][vc_column_text css=""]\nHilton Appl
 eton Paper Valley \nAddress: 333 W. College Ave. Appleton\, WI 54911\nKi
 ng or Double Queen: $119\nYou can book your room by clicking the button b
 elow or by calling 800-774-1500. If it asks you for a code\, it is WTDC.
 \nCut-Off date to book your room is April 23\, 2026. \n[/vc_column_text][
 ult_buttons btn_title="BOOK YOUR HOTEL ROOM" btn_link="url:https%3A%2F%2Fw
 ww.hilton.com%2Fen%2Fbook%2Freservation%2Frooms%2F%3Fctyhocn%3DATWPVHH%26a
 rrivalDate%3D2026-05-14%26departureDate%3D2026-05-17%26groupCode%3DWTDC%26
 room1NumAdults%3D1%26cid%3DOM%252CWW%252CHILTONLINK%252CEN%252CDirectLink"
  btn_align="ubtn-center" btn_title_color="#FFFFFF" btn_bg_color="#0A1378" 
 icon_size="32" btn_icon_pos="ubtn-sep-icon-at-left" btn_font_size="desktop
 :20px\;"][/vc_tta_section][/vc_tta_tabs][/vc_column][/vc_row][vc_row][vc_c
 olumn][vc_empty_space height="80px"][vc_gallery interval="5" images="27592
 \,25775\,25774\,25761\,25777" img_size="full" css=""][/vc_column][/vc_row]
 [vc_row][vc_column][vc_separator css=""][vc_single_image image="27764" img
 _size="full" alignment="center"][vc_column_text css=""]\nPlatinum Sponsors
 \n[/vc_column_text][/vc_column][/vc_row][vc_row][vc_column width="1/2"][vc
 _single_image image="22460" img_size="medium" alignment="center" css=""][/
 vc_column][vc_column width="1/2"][vc_single_image image="25834" img_size="
 medium" alignment="center" css=""][/vc_column][/vc_row][vc_row][vc_column]
 [vc_column_text css=""]\nGold Sponsors\n[/vc_column_text][/vc_column][/vc_
 row][vc_row][vc_column width="1/3"][vc_single_image image="26839" img_size
 ="medium" alignment="center" css=""][/vc_column][vc_column width="1/3"][vc
 _single_image image="26897" img_size="medium" alignment="center" css=""][/
 vc_column][vc_column width="1/3"][vc_single_image image="13685" img_size="
 medium" alignment="center" css=""][/vc_column][/vc_row][vc_row][vc_column]
 [vc_column_text css=""]\nSilver Sponsors\n[/vc_column_text][/vc_column][/v
 c_row][vc_row][vc_column width="1/2"][vc_single_image image="13394" img_si
 ze="medium" alignment="center" css=""][/vc_column][vc_column width="1/2"][
 vc_single_image image="27718" img_size="medium" alignment="center" css=""]
 [/vc_column][/vc_row][vc_row][vc_column][vc_column_text css=""]\nBronze Sp
 onsors\n[/vc_column_text][vc_single_image image="26805" img_size="medium" 
 alignment="center" css=""][/vc_column][/vc_row][vc_row][vc_column][vc_sepa
 rator css=""][vc_column_text css=""]\nTHANK YOU TO OUR STATION JUDGES!\n[/
 vc_column_text][/vc_column][/vc_row][vc_row][vc_column width="1/4"][vc_sin
 gle_image image="26897" img_size="medium" alignment="center" css=""][vc_si
 ngle_image image="25517" img_size="medium" alignment="center" css=""][/vc_
 column][vc_column width="1/4"][vc_single_image image="26839" img_size="med
 ium" alignment="center" css=""][vc_single_image image="13685" img_size="me
 dium" alignment="center" css=""][/vc_column][vc_column width="1/4"][vc_sin
 gle_image image="27651" img_size="medium" alignment="center" css=""][vc_si
 ngle_image image="26848" img_size="medium" alignment="center" css=""][vc_s
 ingle_image image="13394" img_size="medium" alignment="center" css=""][/vc
 _column][vc_column width="1/4"][vc_single_image image="27671" img_size="me
 dium" alignment="center" css=""][vc_single_image image="22460" img_size="m
 edium" alignment="center" css=""][/vc_column][/vc_row]
LOCATION:Fox Valley Technical College\, 1825 N. Bluemound Drive\, Appleton\
 , Wisconsin\, 54912\, United States
GEO:44.282358;-88.459086
X-APPLE-STRUCTURED-LOCATION;VALUE=URI;X-ADDRESS=1825 N. Bluemound Drive\, A
 ppleton\, Wisconsin\, 54912\, United States;X-APPLE-RADIUS=100;X-TITLE=Fox
  Valley Technical College:geo:44.282358,-88.459086
END:VEVENT
BEGIN:VTIMEZONE
TZID:America/Chicago
X-LIC-LOCATION:America/Chicago
BEGIN:DAYLIGHT
DTSTART:20260308T030000
TZOFFSETFROM:-0600
TZOFFSETTO:-0500
TZNAME:CDT
END:DAYLIGHT
END:VTIMEZONE
END:VCALENDAR