BEGIN:VCALENDAR
VERSION:2.0
PRODID:-//wp-events-plugin.com//7.2.3.1//EN
TZID:America/Chicago
X-WR-TIMEZONE:America/Chicago
BEGIN:VEVENT
UID:0-279@witruck.org
DTSTART;TZID=America/Chicago;VALUE=DATE:20220908
DTEND;TZID=America/Chicago;VALUE=DATE:20220910
DTSTAMP:20220425T162048Z
URL:https://witruck.org/events/wi-milk-haulers-association-convention-3/
SUMMARY:2022 WI Milk Haulers Association Convention
DESCRIPTION:[vc_row][vc_column][ult_buttons btn_title="For More Information
 \, Click Here" btn_link="url:https%3A%2F%2Fmilkhauler.witruck.org%2Fevents
 %2F2022-convention-and-annual-meeting%2F" btn_align="ubtn-center" btn_size
 ="ubtn-block" btn_title_color="#ffffff" btn_bg_color="#81d742" icon_size="
 32" btn_icon_pos="ubtn-sep-icon-at-left"][/vc_column][/vc_row]
LOCATION:Stoney Creek Hotel &amp\; Conference Center\, 3060 South Kinney Co
 ulee Road\, Onalaska\, WI\, 54650\, United States
GEO:43.8738;-91.185931
X-APPLE-STRUCTURED-LOCATION;VALUE=URI;X-ADDRESS=3060 South Kinney Coulee Ro
 ad\, Onalaska\, WI\, 54650\, United States;X-APPLE-RADIUS=100;X-TITLE=Ston
 ey Creek Hotel & Conference Center:geo:43.8738,-91.185931
END:VEVENT
BEGIN:VTIMEZONE
TZID:America/Chicago
X-LIC-LOCATION:America/Chicago
BEGIN:DAYLIGHT
DTSTART:20220313T030000
TZOFFSETFROM:-0600
TZOFFSETTO:-0500
TZNAME:CDT
END:DAYLIGHT
END:VTIMEZONE
END:VCALENDAR