BEGIN:VCALENDAR
VERSION:2.0
PRODID:-//wp-events-plugin.com//7.2.3.1//EN
TZID:America/Chicago
X-WR-TIMEZONE:America/Chicago
BEGIN:VEVENT
UID:0-466@witruck.org
DTSTART;TZID=America/Chicago:20260826T083000
DTEND;TZID=America/Chicago:20260826T170000
DTSTAMP:20260407T185333Z
URL:https://witruck.org/events/the-oaks-golf-outing-2026/
SUMMARY:The Oaks Golf Outing
DESCRIPTION:[vc_row][vc_column][vc_single_image image="27701" img_size="lar
 ge" alignment="center" css=""][/vc_column][/vc_row][vc_row][vc_column][vc_
 column_text css=""]\nJoin us this August for our Annual Golf Outing at The
  Oaks Golf Course in Cottage Grove\, WI. Whether you're a seasoned pro or 
 just out for a fun day\, it's a great time for all skill levels. Enjoy pri
 zes at each hole challenge\, delicious food and drinks\, and plenty of cam
 araderie with fellow golfers. Don't miss out on this fantastic day on the 
 greens!\n[/vc_column_text][/vc_column][/vc_row][vc_row][vc_column][vc_tta_
 tabs][vc_tta_section title="SCHEDULE" tab_id="1773858970621-e8043fdf-9805"
 ][vc_column_text css=""]\n8:30AM - Registration Opens\nPractice balls avai
 lable\n10:00AM - Shot Gun Start\nBoxed lunch provided\n3:30PM - Reception\
 nDinner\, raffles and prizes awarded\n[/vc_column_text][/vc_tta_section][v
 c_tta_section title="LOCATION" tab_id="1773858988674-9bfc5b7a-15e2"][vc_si
 ngle_image image="27702" img_size="medium" alignment="center" css=""][vc_c
 olumn_text css=""]\n4740 Pierceville Road\, Cottage Grove\, WI 53527\nPhon
 e:\n(608) 837-4774\n[/vc_column_text][/vc_tta_section][vc_tta_section titl
 e="REGISTRATION" tab_id="1773858864987-fe895498-6e64"][vc_column_text css=
 ""]\n$650 - Team of 4 Registration\nRegistration includes: golf fees\, gol
 f cart\, range balls\, mulligans (1 per golfer)\, golf cannon (1 per golfe
 r)\, lunch\, dinner reception and prizes.\n$175 - Individual Registration\
 nRegistration includes: golf fees\, golf cart\, mulligan\, golf cannon\, l
 unch\, dinner reception and prizes.\n$15 Only Lunch\n$40 Only Dinner\n[/vc
 _column_text][vc_column_text css=""]\nMULLIGANS AND GOLF CANNON ARE INCLUD
 ED!\n[/vc_column_text][ult_buttons btn_title="REGISTER HERE (CREDIT CARD)"
  btn_link="url:https%3A%2F%2Fsecurepayment.link%2Fwitruck%2Fthe-oaks-golf-
 outing-credit-card%2F" btn_align="ubtn-center" btn_title_color="#FFFFFF" b
 tn_bg_color="#FF3131" icon_size="32" btn_icon_pos="ubtn-sep-icon-at-left" 
 btn_font_size="desktop:20px\;"][ult_buttons btn_title="REGISTER HERE (SEND
  INVOICE)" btn_link="url:https%3A%2F%2Fsecurepayment.link%2Fwitruck%2Ftheo
 aksgolfoutinginvoice%2F" btn_align="ubtn-center" btn_title_color="#FFFFFF"
  btn_bg_color="#FF3131" icon_size="32" btn_icon_pos="ubtn-sep-icon-at-left
 " btn_font_size="desktop:20px\;"][vc_column_text css=""]\nInvoicing is for
  members only!\n[/vc_column_text][/vc_tta_section][vc_tta_section title="S
 PONSORSHIP" tab_id="1773858864979-6de76ed2-da32"][vc_column_text css=""]\n
 $1\,000 - Eagle Sponsor\nReceives complimentary golf (with mulligans &amp\
 ; golf cannon)\, lunch &amp\; dinner for (4) and hole sponsorship at golf 
 outing.\n$750 - Birdie Sponsor\nReceives complimentary golf (with mulligan
 s and golf cannon)\, lunch &amp\; dinner for (2).\n$500 - Par Sponsor\nRec
 eives complimentary golf (with mulligan and golf cannon)\, lunch &amp\; di
 nner for (1).\n$300 - Hole Sponsor\nReceives company signage at a designat
 ed hole as well as company logo on GPS course map.\n($60 additional for an
  all-day golf cart)\n[/vc_column_text][ult_buttons btn_title="SPONSOR HERE
  (CREDIT CARD)" btn_link="url:https%3A%2F%2Fsecurepayment.link%2Fwitruck%2
 Fthe-oaks-golf-outing-credit-card%2F" btn_align="ubtn-center" btn_title_co
 lor="#FFFFFF" btn_bg_color="#FF3131" icon_size="32" btn_icon_pos="ubtn-sep
 -icon-at-left" btn_font_size="desktop:20px\;"][ult_buttons btn_title="SPON
 SOR HERE (SEND INVOICE)" btn_link="url:https%3A%2F%2Fsecurepayment.link%2F
 witruck%2Ftheoaksgolfoutinginvoice%2F" btn_align="ubtn-center" btn_title_c
 olor="#FFFFFF" btn_bg_color="#FF3131" icon_size="32" btn_icon_pos="ubtn-se
 p-icon-at-left" btn_font_size="desktop:20px\;"][vc_column_text css=""]\nIn
 voicing is for members only!\n[/vc_column_text][/vc_tta_section][/vc_tta_t
 abs][/vc_column][/vc_row][vc_row][vc_column width="1/3"][vc_single_image i
 mage="26759" img_size="medium" alignment="center" css=""][/vc_column][vc_c
 olumn width="1/3"][vc_single_image image="26760" img_size="medium" alignme
 nt="center" css=""][/vc_column][vc_column width="1/3"][vc_single_image ima
 ge="26761" img_size="medium" alignment="center" css=""][/vc_column][/vc_ro
 w][vc_row][vc_column][vc_single_image image="27764" img_size="full" alignm
 ent="center" css=""][/vc_column][/vc_row][vc_row][vc_column width="1/3"][v
 c_column_text css=""]\nEagle Sponsors\n[/vc_column_text][vc_single_image i
 mage="27762" img_size="medium" alignment="center" css=""][vc_single_image 
 image="26679" img_size="medium" alignment="center" css=""][vc_single_image
  image="25412" img_size="medium" alignment="center" css=""][vc_single_imag
 e image="27832" img_size="medium" alignment="center" css=""][/vc_column][v
 c_column width="1/3"][vc_column_text css=""]\nBirdie Sponsors\n[/vc_column
 _text][vc_single_image image="18725" alignment="center" css=""][/vc_column
 ][vc_column width="1/3"][vc_column_text css=""]\nPar Sponsors\n[/vc_column
 _text][vc_single_image image="26838" img_size="medium" alignment="center" 
 css=""][/vc_column][/vc_row][vc_row][vc_column][vc_column_text css=""]\nHo
 le Sponsors\n[/vc_column_text][/vc_column][/vc_row][vc_row][vc_column widt
 h="1/3"][vc_single_image image="10986" img_size="medium" alignment="center
 " css=""][/vc_column][vc_column width="1/3"][vc_single_image image="11114"
  img_size="medium" alignment="center" css=""][vc_single_image image="24312
 " img_size="medium" alignment="center" css=""][/vc_column][vc_column width
 ="1/3"][vc_single_image image="13685" img_size="medium" alignment="center"
  css=""][/vc_column][/vc_row]
LOCATION:The Oaks Golf Course\, 4740 Pierceville Rd\, Cottage Grove\, Wisco
 nsin\, 53527\, 
GEO:43.1156351;-89.16847919999998
X-APPLE-STRUCTURED-LOCATION;VALUE=URI;X-ADDRESS=4740 Pierceville Rd\, Cotta
 ge Grove\, Wisconsin\, 53527\, ;X-APPLE-RADIUS=100;X-TITLE=The Oaks Golf C
 ourse:geo:43.1156351,-89.16847919999998
END:VEVENT
BEGIN:VTIMEZONE
TZID:America/Chicago
X-LIC-LOCATION:America/Chicago
BEGIN:DAYLIGHT
DTSTART:20260308T030000
TZOFFSETFROM:-0600
TZOFFSETTO:-0500
TZNAME:CDT
END:DAYLIGHT
END:VTIMEZONE
END:VCALENDAR