BEGIN:VCALENDAR
VERSION:2.0
PRODID:-//wp-events-plugin.com//7.2.3.1//EN
TZID:America/Chicago
X-WR-TIMEZONE:America/Chicago
BEGIN:VEVENT
UID:0-383@witruck.org
DTSTART;TZID=America/Chicago:20240507T120000
DTEND;TZID=America/Chicago:20240507T150000
DTSTAMP:20240226T174714Z
URL:https://witruck.org/events/swef-visit-sparta-4/
SUMMARY:SWEF Visit - Sparta
DESCRIPTION:[vc_row][vc_column][vc_single_image image="18191" img_size="lar
 ge" alignment="center"][/vc_column][/vc_row][vc_row][vc_column][vc_column_
 text]\nREGISTER HERE\n[/vc_column_text][/vc_column][/vc_row][vc_row][vc_co
 lumn][vc_column_text]This is an opportunity for your safety and maintenanc
 e personnel to observe the Wisconsin State Patrol Inspectors doing their w
 ork. You will be able to:\n\n 	Become familiar with the equipment that the
  Inspectors have at their facilities.\n 	See how inspectors select carrier
 s to inspect.\n 	Watch inspector doing a level 1 inspection.\n\n[/vc_colum
 n_text][vc_column_text]Location: Safety &amp\; Weight Enforcement Facility
  - Sparta\nI-90 MP 22\nTown - Sparta\, Monroe County\nTraffic direction - 
 East\nPhone: (608) 374-0513[/vc_column_text][vc_column_text]Date: May 7th[
 /vc_column_text][vc_column_text]Cost: Members – $25     Non-Membe
 rs – $35    Road Team Captains – Complimentary[/vc_column_text][/vc_
 column][/vc_row]
LOCATION:Safety &amp\; Weight Enforcement Facility - Sparta\, I-90 MP 22\, 
 Sparta\, WI/Monroe County\, United States
GEO:43.925396;-90.798296
X-APPLE-STRUCTURED-LOCATION;VALUE=URI;X-ADDRESS=I-90 MP 22\, Sparta\, WI/Mo
 nroe County\, United States;X-APPLE-RADIUS=100;X-TITLE=Safety & Weight Enf
 orcement Facility - Sparta:geo:43.925396,-90.798296
END:VEVENT
BEGIN:VTIMEZONE
TZID:America/Chicago
X-LIC-LOCATION:America/Chicago
BEGIN:DAYLIGHT
DTSTART:20240310T030000
TZOFFSETFROM:-0600
TZOFFSETTO:-0500
TZNAME:CDT
END:DAYLIGHT
END:VTIMEZONE
END:VCALENDAR