BEGIN:VCALENDAR
VERSION:2.0
PRODID:-//wp-events-plugin.com//7.2.3.1//EN
TZID:America/Chicago
X-WR-TIMEZONE:America/Chicago
BEGIN:VEVENT
UID:0-467@witruck.org
DTSTART;TZID=America/Chicago:20261006T110000
DTEND;TZID=America/Chicago:20261006T140000
DTSTAMP:20260406T173527Z
URL:https://witruck.org/events/swef-visit-kenosha-2026/
SUMMARY:SWEF Visit - Kenosha
DESCRIPTION:[vc_row][vc_column][vc_single_image image="27754" img_size="lar
 ge" alignment="center" css=""][vc_single_image image="27757" img_size="lar
 ge" alignment="center" css=""][/vc_column][/vc_row][vc_row][vc_column][ult
 _buttons btn_title="REGISTER HERE" btn_link="url:https%3A%2F%2Fsecurepayme
 nt.link%2Fwitruck%2Fswefvisit%2F" btn_align="ubtn-center" btn_title_color=
 "#FFFFFF" btn_bg_color="#FF8175" icon_size="32" btn_icon_pos="ubtn-sep-ico
 n-at-left" btn_font_style="font-weight:bold\;" btn_font_size="desktop:24px
 \;"][/vc_column][/vc_row][vc_row][vc_column][vc_column_text css=""]This is
  an opportunity for your safety and maintenance personnel to observe the W
 isconsin State Patrol Inspectors doing their work. You will be able to:\n\
 n 	Become familiar with the equipment that the Inspectors have at their fa
 cilities.\n 	See how inspectors select carriers to inspect.\n 	Watch inspe
 ctor doing a level 1 inspection.\n\n[/vc_column_text][vc_column_text css="
 "]Location: Safety &amp\; Weight Enforcement Facility - Kenosha\nI-94 MP 3
 49\, 0.25 mile N. of Illinois Line\nVillage - Pleasant Prairie\, Kenosha C
 ounty\nTraffic direction - North\nPhone: (262) 785-4700[/vc_column_text][v
 c_column_text css=""]Date: October 6th[/vc_column_text][vc_column_text css
 =""]Cost: Members – $25     Non-Members – $50    Road Team Ca
 ptains – Complimentary[/vc_column_text][/vc_column][/vc_row]
LOCATION:Safety &amp\; Weight Enforcement Facility - Kenosha\, I-94 MP 349\
 , Pleasant Prairie\, Wisconsin\, United States
GEO:42.553075;-87.933412
X-APPLE-STRUCTURED-LOCATION;VALUE=URI;X-ADDRESS=I-94 MP 349\, Pleasant Prai
 rie\, Wisconsin\, United States;X-APPLE-RADIUS=100;X-TITLE=Safety & Weight
  Enforcement Facility - Kenosha:geo:42.553075,-87.933412
END:VEVENT
BEGIN:VTIMEZONE
TZID:America/Chicago
X-LIC-LOCATION:America/Chicago
BEGIN:DAYLIGHT
DTSTART:20260308T030000
TZOFFSETFROM:-0600
TZOFFSETTO:-0500
TZNAME:CDT
END:DAYLIGHT
END:VTIMEZONE
END:VCALENDAR