BEGIN:VCALENDAR
VERSION:2.0
PRODID:-//wp-events-plugin.com//7.2.3.1//EN
TZID:America/Chicago
X-WR-TIMEZONE:America/Chicago
BEGIN:VEVENT
UID:0-294@witruck.org
DTSTART;TZID=America/Chicago:20220607T120000
DTEND;TZID=America/Chicago:20220607T150000
DTSTAMP:20220210T204411Z
URL:https://witruck.org/events/swef-visit-coloma-4/
SUMMARY:SWEF VISIT - Coloma
DESCRIPTION:[vc_row][vc_column][vc_single_image image="18191" img_size="lar
 ge" alignment="center"][vc_column_text]This is an opportunity for your saf
 ety and maintenance personnel to observe the Wisconsin State Patrol Inspec
 tors doing their work. You will be able to:\n\n 	Become familiar with the 
 equipment that the Inspectors have at their facilities.\n 	See how inspect
 ors select carriers to inspect.\n 	Watch inspector doing a level 1 inspect
 ion.\n\n[/vc_column_text][vc_column_text]Location: Safety &amp\; Weight En
 forcement Facility - Coloma\nI-39 MP 127\, 1.5 miles N. of Coloma\nTown - 
 Hancock\, Waushara County\nTraffic direction - North and South\nPhone: (71
 5) 845-1143[/vc_column_text][vc_column_text]Date: June 7th[/vc_column_text
 ][vc_column_text]Cost: Members – $25     Non-Members – $35   
  Road Team Captains – Complimentary[/vc_column_text][ult_buttons btn_tit
 le="REGISTER AND REQUEST INVOICE" btn_link="url:https%3A%2F%2Fsecurepaymen
 t.link%2Fwitruck%2Fswef-visit%2F" btn_size="ubtn-large" btn_title_color="#
 ffffff" btn_bg_color="#1e73be" icon_size="32" btn_icon_pos="ubtn-sep-icon-
 at-left" btn_font_size="desktop:18px\;"][ult_buttons btn_title="REGISTER A
 ND PAY WITH CREDIT CARD" btn_link="url:https%3A%2F%2Fsecurepayment.link%2F
 witruck%2F2018-swef-visit-credit-card%2F" btn_size="ubtn-large" btn_title_
 color="#ffffff" btn_bg_color="#1e73be" icon_size="32" btn_icon_pos="ubtn-s
 ep-icon-at-left" btn_font_size="desktop:18px\;"][/vc_column][/vc_row]
LOCATION:Safety &amp\; Weight Enforcement Facility - Coloma\, I-39 MP 127\,
  Hancock\, WI/Waushara County\, United States
GEO:44.133637;-89.532232
X-APPLE-STRUCTURED-LOCATION;VALUE=URI;X-ADDRESS=I-39 MP 127\, Hancock\, WI/
 Waushara County\, United States;X-APPLE-RADIUS=100;X-TITLE=Safety & Weight
  Enforcement Facility - Coloma:geo:44.133637,-89.532232
END:VEVENT
BEGIN:VTIMEZONE
TZID:America/Chicago
X-LIC-LOCATION:America/Chicago
BEGIN:DAYLIGHT
DTSTART:20220313T030000
TZOFFSETFROM:-0600
TZOFFSETTO:-0500
TZNAME:CDT
END:DAYLIGHT
END:VTIMEZONE
END:VCALENDAR