BEGIN:VCALENDAR
VERSION:2.0
PRODID:-//wp-events-plugin.com//7.2.3.1//EN
TZID:America/Chicago
X-WR-TIMEZONE:America/Chicago
BEGIN:VEVENT
UID:0-468@witruck.org
DTSTART;TZID=America/Chicago:20260908T110000
DTEND;TZID=America/Chicago:20260908T140000
DTSTAMP:20260406T173639Z
URL:https://witruck.org/events/swef-visit-beloit-2026/
SUMMARY:SWEF Visit - Beloit
DESCRIPTION:[vc_row][vc_column][vc_single_image image="27754" img_size="lar
 ge" alignment="center" css=""][vc_single_image image="27755" img_size="lar
 ge" alignment="center" css=""][/vc_column][/vc_row][vc_row][vc_column][ult
 _buttons btn_title="REGISTER HERE" btn_link="url:https%3A%2F%2Fsecurepayme
 nt.link%2Fwitruck%2Fswefvisit%2F" btn_align="ubtn-center" btn_title_color=
 "#FFFFFF" btn_bg_color="#FF8175" icon_size="32" btn_icon_pos="ubtn-sep-ico
 n-at-left" btn_font_style="font-weight:bold\;" btn_font_size="desktop:24px
 \;"][/vc_column][/vc_row][vc_row][vc_column][vc_column_text css=""]This is
  an opportunity for your safety and maintenance personnel to observe the W
 isconsin State Patrol Inspectors doing their work. You will be able to:\n\
 n 	Become familiar with the equipment that the Inspectors have at their fa
 cilities.\n 	See how inspectors select carriers to inspect.\n 	Watch inspe
 ctor doing a level 1 inspection.\n\n[/vc_column_text][vc_column_text css="
 "]Location: Safety &amp\; Weight Enforcement Facility - Beloit\nI-39/90 MP
  180\, 2.5 miles N. of Hwy S\nTown - La Prairie\, Rock County\nTraffic dir
 ection - North\nPhone: (608) 846-8500[/vc_column_text][vc_column_text css=
 ""]Date: September 8th[/vc_column_text][vc_column_text css=""]Cost: Membe
 rs – $25     Non-Members – $50    Road Team Captains – Compl
 imentary[/vc_column_text][/vc_column][/vc_row]
LOCATION:Safety &amp\; Weight Enforcement Facility - Beloit\, I-39/90 MP 18
 0\, La Prairie\, WI/Rock County\, United States
GEO:42.634096;-88.982622
X-APPLE-STRUCTURED-LOCATION;VALUE=URI;X-ADDRESS=I-39/90 MP 180\, La Prairie
 \, WI/Rock County\, United States;X-APPLE-RADIUS=100;X-TITLE=Safety & Weig
 ht Enforcement Facility - Beloit:geo:42.634096,-88.982622
END:VEVENT
BEGIN:VTIMEZONE
TZID:America/Chicago
X-LIC-LOCATION:America/Chicago
BEGIN:DAYLIGHT
DTSTART:20260308T030000
TZOFFSETFROM:-0600
TZOFFSETTO:-0500
TZNAME:CDT
END:DAYLIGHT
END:VTIMEZONE
END:VCALENDAR