BEGIN:VCALENDAR
VERSION:2.0
PRODID:-//wp-events-plugin.com//7.2.3.1//EN
TZID:America/Chicago
X-WR-TIMEZONE:America/Chicago
BEGIN:VEVENT
UID:0-384@witruck.org
DTSTART;TZID=America/Chicago:20240604T120000
DTEND;TZID=America/Chicago:20240604T150000
DTSTAMP:20240318T135645Z
URL:https://witruck.org/events/swef-visit-abrams-3/
SUMMARY:SWEF Visit - Abrams
DESCRIPTION:[vc_row][vc_column][vc_single_image image="18191" img_size="lar
 ge" alignment="center"][/vc_column][/vc_row][vc_row][vc_column][vc_column_
 text]\nREGISTER HERE\n[/vc_column_text][/vc_column][/vc_row][vc_row][vc_co
 lumn][vc_column_text]This is an opportunity for your safety and maintenanc
 e personnel to observe the Wisconsin State Patrol Inspectors doing their w
 ork. You will be able to:\n\n 	Become familiar with the equipment that the
  Inspectors have at their facilities.\n 	See how inspectors select carrier
 s to inspect.\n 	Watch inspector doing a level 1 inspection.\n\n[/vc_colum
 n_text][vc_column_text]Location: Safety &amp\; Weight Enforcement Facility
  - Abrams\nUS 41/141\, 3 miles S. Jct. US 41 and 141\nTown - Little Suamic
 o\, Oconto County\nTraffic direction - North and South\nPhone: (920) 929-3
 700[/vc_column_text][vc_column_text]Date: June 4th[/vc_column_text][vc_col
 umn_text]Cost: Members – $25     Non-Members – $35    Road Te
 am Captains – Complimentary[/vc_column_text][/vc_column][/vc_row]
LOCATION:Safety &amp\; Weight Enforcement Facility - Abrams\, US 41/141\, A
 brams\, WI\, 54141\, United States
GEO:44.778897;-88.048686
X-APPLE-STRUCTURED-LOCATION;VALUE=URI;X-ADDRESS=US 41/141\, Abrams\, WI\, 5
 4141\, United States;X-APPLE-RADIUS=100;X-TITLE=Safety & Weight Enforcemen
 t Facility - Abrams:geo:44.778897,-88.048686
END:VEVENT
BEGIN:VTIMEZONE
TZID:America/Chicago
X-LIC-LOCATION:America/Chicago
BEGIN:DAYLIGHT
DTSTART:20240310T030000
TZOFFSETFROM:-0600
TZOFFSETTO:-0500
TZNAME:CDT
END:DAYLIGHT
END:VTIMEZONE
END:VCALENDAR