BEGIN:VCALENDAR
VERSION:2.0
PRODID:-//wp-events-plugin.com//7.2.3.1//EN
TZID:America/Chicago
X-WR-TIMEZONE:America/Chicago
BEGIN:VEVENT
UID:0-471@witruck.org
DTSTART;TZID=America/Chicago:20260629T160000
DTEND;TZID=America/Chicago:20260630T130000
DTSTAMP:20260420T235916Z
URL:https://witruck.org/events/summer-outing-board-meeting-2026/
SUMMARY:Summer Outing &amp\; Board Meeting
DESCRIPTION:[vc_row][vc_column][vc_single_image image="27778" img_size="lar
 ge" alignment="center" css=""][/vc_column][/vc_row][vc_row][vc_column][vc_
 message icon_fontawesome="fa fa-solid fa-arrow-right" css=""]\nThe Golf an
 d Cookout on June 29th is FREE for WMCA Board Members AND $75 FOR NON-MEMB
 ER GUESTS.\nThe WMCA Board Meeting is open to all members\, but please RSV
 P using the link below.\nTHANK YOU Kwik Trip for graciously hosting the Ju
 ne 30th board meeting!\n[/vc_message][/vc_column][/vc_row][vc_row][vc_colu
 mn width="1/2"][vc_column_text css=""]\nMonday Golf Outing Location\nPinSo
 cial Hybrid Golf Center - Deforest\n(WMCA Board Members - Free\; $75 Per G
 uest)\n[/vc_column_text][vc_single_image image="27771" alignment="center" 
 css=""][vc_single_image image="27926" img_size="full" alignment="center" c
 ss=""][vc_column_text css=""]\n6909 River Rd\, DeForest\, WI 53532 \n[/vc_
 column_text][/vc_column][vc_column width="1/2"][vc_column_text css=""]\nTu
 esday Board Meeting Location\nKwik Trip Distribution Center - Deforest\n(O
 pen to all WMCA Members - Please RSVP)\n[/vc_column_text][vc_single_image 
 image="26885" alignment="center" css=""][vc_single_image image="27925" img
 _size="full" alignment="center" css=""][vc_column_text css=""]\n6058 Pepsi
  Way\, DeForest\, WI\, 53598\n[/vc_column_text][/vc_column][/vc_row][vc_ro
 w][vc_column][vc_tta_tabs][vc_tta_section title="Schedule" tab_id="1775162
 715831-b54dc115-50a9"][vc_single_image image="27779" img_size="850 x 1100"
  alignment="center" css=""][/vc_tta_section][vc_tta_section title="Registr
 ation" tab_id="1775162715840-87b803da-3de2"][vc_column_text css=""]\nWMCA 
 Board Members may attend at no cost\; $75 per guest for non-board members.
   Please register so we have an accurate count for both the golf outing a
 nd board meeting.\nIf you'd like to "chip in" to help\, please click the S
 ponsorship tab.\n[/vc_column_text][ult_buttons btn_title="BOARD MEMBER REG
 ISTRATION" btn_link="url:https%3A%2F%2Fsecurepayment.link%2Fwitruck%2Fwmca
 -summer-board-meeting-rsvp%2F" btn_align="ubtn-center" btn_title_color="#0
 04AAD" btn_bg_color="#EFE02F" icon_size="32" btn_icon_pos="ubtn-sep-icon-a
 t-left" btn_font_style="font-weight:bold\;" btn_font_size="desktop:20px\;"
 ][ult_buttons btn_title="NON-BOARD MEMBER REGISTRATION " btn_link="url:htt
 ps%3A%2F%2Fsecurepayment.link%2Fwitruck%2Fwmca-summer-outing-non-member-re
 gistration%2F" btn_align="ubtn-center" btn_title_color="#EFE02F" btn_bg_co
 lor="#155D9D" icon_size="32" btn_icon_pos="ubtn-sep-icon-at-left" btn_font
 _style="font-weight:bold\;" btn_font_size="desktop:20px\;"][/vc_tta_sectio
 n][vc_tta_section title="Sponsorship" tab_id="1775591953582-d421ba46-7360"
 ][vc_column_text css=""]\nSponsor The Golf and Cookout Event!\n\n19th Hole
  Bar Sponsor:  $1\,000 \nGrip and Rip Cookout Sponsor:  $1\,000 \nHole
  in One Sponsor: $750 \nLong Drive Sponsor: $500\nChip Shot Sponsor: $250
 \n\n\n[/vc_column_text][ult_buttons btn_title="SPONSOR HERE (CREDIT CARD)"
  btn_link="url:https%3A%2F%2Fsecurepayment.link%2Fwitruck%2Fsummer-board-m
 eeting-sponsor-credit-card%2F" btn_align="ubtn-center" btn_title_color="#0
 04AAD" btn_bg_color="#EFE02F" icon_size="32" btn_icon_pos="ubtn-sep-icon-a
 t-left" btn_font_style="font-weight:bold\;" btn_font_size="desktop:20px\;"
 ][ult_buttons btn_title="SPONSOR HERE (SEND INVOICE)" btn_link="url:https%
 3A%2F%2Fsecurepayment.link%2Fwitruck%2Fsummer-board-meeting-sponsor-invoic
 e%2F" btn_align="ubtn-center" btn_title_color="#004AAD" btn_bg_color="#EFE
 02F" icon_size="32" btn_icon_pos="ubtn-sep-icon-at-left" btn_font_style="f
 ont-weight:bold\;" btn_font_size="desktop:20px\;"][/vc_tta_section][vc_tta
 _section title="Nearby Hotels" tab_id="1775163000464-f2a6e5d9-5e36"][vc_co
 lumn_text css=""]\nHOTEL OPTIONS\n[/vc_column_text][vc_single_image image=
 "27833" alignment="center" css=""][vc_column_text css=""]\nHOLIDAY INN EXP
 RESS\nAddress: 7184 Morrisonville Road Deforest\, WI 53532\nPhone: (608) 8
 46-8686\n7.6 Miles (12 min.) from Kwik Trip DC\n[/vc_column_text][ult_butt
 ons btn_title="BOOK ONLINE" btn_link="url:https%3A%2F%2Fwww.ihg.com%2Fholi
 dayinnexpress%2Fhotels%2Fus%2Fen%2Fdeforest%2Fdefwi%2Fhoteldetail" btn_ali
 gn="ubtn-center" btn_title_color="#004AAD" btn_bg_color="#EFE02F" icon_siz
 e="32" btn_icon_pos="ubtn-sep-icon-at-left" btn_font_size="desktop:20px\;"
  btn_font_style="font-weight:bold\;"][vc_separator css=""][vc_single_image
  image="27834" alignment="center" css=""][vc_column_text css=""]\nCOMFORT 
 INN &amp\; SUITES\nAddress: 5025 County Hwy. V\, De Forest\, WI 53532\nPho
 ne: (608) 653-2247\n5.9 Miles (9 min.) from Kwik Trip DC\n[/vc_column_text
 ][ult_buttons btn_title="BOOK ONLINE" btn_link="url:https%3A%2F%2Fwww.choi
 cehotels.com%2Fwisconsin%2Fde-forest%2Fcomfort-inn-hotels%2Fwi120%3Fdsclid
 %3D77443498677129216%26gclid%3D5a4307433e0a1066e5946e9664386ce7%26mc%3Dmtb
 ibhpxci%26meta%3Dbinghpa_WI120_698177839_1242449453228144_localuniversal_U
 S_1_47_sunday_desktop_2026-05-24_default_AccountID%26pmf%3Dhpabing%26adult
 s%3D2%26checkInDate%3D2026-05-24%26checkOutDate%3D2026-05-25" btn_align="u
 btn-center" btn_title_color="#004AAD" btn_bg_color="#EFE02F" icon_size="32
 " btn_icon_pos="ubtn-sep-icon-at-left" btn_font_size="desktop:20px\;" btn_
 font_style="font-weight:bold\;"][/vc_tta_section][/vc_tta_tabs][/vc_column
 ][/vc_row][vc_row][vc_column][vc_separator css=""][vc_single_image image="
 27764" img_size="full" alignment="center" css=""][/vc_column][/vc_row][vc_
 row][vc_column][vc_column_text css=""]\nBOARD MEETING HOST AND SPONSOR\n[/
 vc_column_text][vc_single_image image="25412" img_size="medium" alignment=
 "center" css=""][/vc_column][/vc_row][vc_row][vc_column width="1/3"][vc_co
 lumn_text css=""]\n19th HOLE BAR SPONSOR - $1\,000\n[/vc_column_text][vc_s
 ingle_image image="26809" img_size="full" alignment="center" css=""][/vc_c
 olumn][vc_column width="1/3"][vc_column_text css=""]\nGRIP AND RIP COOKOUT
  SPONSOR - $1\,000\n[/vc_column_text][vc_single_image image="27927" img_si
 ze="full" alignment="center" css=""][/vc_column][vc_column width="1/3"][vc
 _column_text css=""]\nHOLE OUT SPONSOR - $750\n[/vc_column_text][vc_single
 _image image="27927" img_size="full" alignment="center" css=""][/vc_column
 ][/vc_row][vc_row][vc_column width="1/4"][/vc_column][vc_column width="1/4
 "][vc_column_text css=""]\nBIG DRIVE SPONSOR - $500 \n[/vc_column_text][v
 c_single_image image="27927" img_size="full" alignment="center" css=""][/v
 c_column][vc_column width="1/4"][vc_column_text css=""]\nCHIP SHOT SPONSOR
  - $250\n[/vc_column_text][vc_single_image image="27927" img_size="full" a
 lignment="center" css=""][/vc_column][vc_column width="1/4"][/vc_column][/
 vc_row]
LOCATION:Kwik Trip Distribution Center\, 6058 Pepsi Way\, Deforest\, Wiscon
 sin\, United States
GEO:43.189236;-89.330409
X-APPLE-STRUCTURED-LOCATION;VALUE=URI;X-ADDRESS=6058 Pepsi Way\, Deforest\,
  Wisconsin\, United States;X-APPLE-RADIUS=100;X-TITLE=Kwik Trip Distributi
 on Center:geo:43.189236,-89.330409
END:VEVENT
BEGIN:VTIMEZONE
TZID:America/Chicago
X-LIC-LOCATION:America/Chicago
BEGIN:DAYLIGHT
DTSTART:20260308T030000
TZOFFSETFROM:-0600
TZOFFSETTO:-0500
TZNAME:CDT
END:DAYLIGHT
END:VTIMEZONE
END:VCALENDAR