BEGIN:VCALENDAR
VERSION:2.0
PRODID:-//wp-events-plugin.com//7.2.3.1//EN
TZID:America/Chicago
X-WR-TIMEZONE:America/Chicago
BEGIN:VEVENT
UID:0-436@witruck.org
DTSTART;TZID=America/Chicago;VALUE=DATE:20250624
DTEND;TZID=America/Chicago;VALUE=DATE:20250626
DTSTAMP:20250625T193940Z
URL:https://witruck.org/events/summer-outing-board-meeting-2/
SUMMARY:Summer Outing &amp\; Board Meeting
DESCRIPTION:[vc_row][vc_column][vc_single_image image="26772" img_size="lar
 ge" alignment="center" css=""][/vc_column][/vc_row][vc_row][vc_column][vc_
 column_text css=""]\n Tee times available at New Berlin Hills Golf Course
  on June 24th.\nAcrisure is graciously hosting the reception and dinner at
  their De-Risking Center on the 24th and will also host the board meeting 
 on the 25th.  Thank you Acrisure!\nSpouses/Partners are welcome to attend
 !\n[/vc_column_text][vc_column_text css=""]\nSCHEDULE\n[/vc_column_text][/
 vc_column][/vc_row][vc_row][vc_column width="1/2"][vc_column_text css=""]\
 nTuesday\, June 24\n[/vc_column_text][vc_column_text css=""]\nGolf at New 
 Berlin Golf Course (optional)\nTee times are available between 11:00 a.m. 
 - 12 noon.  Please use the registration link to indicate your intent to g
 olf.\n\n5:30 p.m. - Cocktail Reception at Acrisure\, New Berlin\n6:30 p.m.
  - Outdoor Cookout Party at Acrisure[/vc_column_text][vc_empty_space][/vc_
 column][vc_column width="1/2"][vc_column_text css=""]\nWednesday\, June 25
 \n[/vc_column_text][vc_column_text css=""]\n9:15 a.m. – Continental brea
 kfast at Acrisure\n10:00 a.m. – Board of Directors Meeting\n11:30 a.m. 
 – Acrisure Presentation\n12:00 p.m. – Board Meeting Adjourned\n12:15 p
 .m. – Lunch\n1:00pm – Tour\nGBUF\n\nSPREADSHEET[/vc_column_text][vc_em
 pty_space][/vc_column][/vc_row][vc_row][vc_column width="1/3"][vc_column_t
 ext css=""]\nGolf Location\n[/vc_column_text][vc_single_image image="26774
 " alignment="center" css=""][vc_column_text css=""]\n13175 W. Graham St. N
 ew Berlin\, WI 53151\n[/vc_column_text][/vc_column][vc_column width="1/3"]
 [vc_column_text css=""]\nRegistration\n[/vc_column_text][ult_buttons btn_t
 itle="SUMMER MEETING AND GOLF REGISTRATION" btn_link="url:https%3A%2F%2Fse
 curepayment.link%2Fwitruck%2Fwmca-summer-board-meeting-rsvp%2F" btn_align=
 "ubtn-center" btn_bg_color="#7DB4E3" icon_size="32" btn_icon_pos="ubtn-sep
 -icon-at-left" btn_font_style="font-weight:bold\;" btn_font_size="desktop:
 20px\;"][ult_buttons btn_title="SPONSOR HERE (CREDIT CARD)" btn_link="url:
 https%3A%2F%2Fsecurepayment.link%2Fwitruck%2Fsummer-board-meeting-sponsor-
 credit-card%2F" btn_align="ubtn-center" btn_title_color="#FFFFFF" btn_bg_c
 olor="#CD1A6F" icon_size="32" btn_icon_pos="ubtn-sep-icon-at-left" btn_fon
 t_style="font-weight:bold\;" btn_font_size="desktop:20px\;"][ult_buttons b
 tn_title="SPONSOR HERE (SEND INVOICE)" btn_link="url:https%3A%2F%2Fsecurep
 ayment.link%2Fwitruck%2Fsummer-board-meeting-sponsor-invoice%2F" btn_align
 ="ubtn-center" btn_title_color="#FFFFFF" btn_bg_color="#CD1A6F" icon_size=
 "32" btn_icon_pos="ubtn-sep-icon-at-left" btn_font_style="font-weight:bold
 \;" btn_font_size="desktop:20px\;"][/vc_column][vc_column width="1/3"][vc_
 column_text css=""]\nMeeting Location\n[/vc_column_text][vc_single_image i
 mage="26094" alignment="center" css=""][vc_column_text css=""]\n16805 W. C
 leveland Ave. New Berlin\, WI 53151\n[/vc_column_text][/vc_column][/vc_row
 ][vc_row][vc_column][vc_separator css=""][vc_column_text css=""]\nHOTEL OP
 TIONS\n[/vc_column_text][/vc_column][/vc_row][vc_row][vc_column width="1/2
 "][vc_column_text css=""]\nEMBASSY SUITES\nAddress: 1200 South Moorland Ro
 ad\, Brookfield\, WI\, 53005\, USA\nPhone: (262) 782-2900\n[/vc_column_tex
 t][ult_buttons btn_title="BOOK ONLINE" btn_link="url:https%3A%2F%2Fwww.hil
 ton.com%2Fen%2Fhotels%2Fmkembes-embassy-suites-milwaukee-brookfield%2F%3FS
 EO_id%3DBING-AMER-ES-MKEMBES%26y_source%3D1_MzI2NDc5OS00ODMtbG9jYXRpb24ud2
 Vic2l0ZQ%253D%253D" btn_align="ubtn-center" btn_title_color="#FFFFFF" btn_
 bg_color="#376E7C" icon_size="32" btn_icon_pos="ubtn-sep-icon-at-left"][vc
 _empty_space][vc_column_text css=""]\nHOLIDAY INN EXPRESS &amp\; SUITES\nA
 ddress: 10111 West Lincoln Avenue\, West Allis\, WI\, 53227\, USA\nPhone: 
 (414) 327-2200\n[/vc_column_text][ult_buttons btn_title="BOOK ONLINE" btn_
 align="ubtn-center" btn_title_color="#FFFFFF" btn_bg_color="#154E80" icon_
 size="32" btn_icon_pos="ubtn-sep-icon-at-left"][vc_empty_space][vc_column_
 text css=""]\nCOUNTRY INN &amp\; SUITES\nAddress: 1250 S Moorland Road\, B
 rookfield\, WI\, 53005\, USA\nPhone: (262) 782-1400\n[/vc_column_text][ult
 _buttons btn_title="BOOK ONLINE" btn_link="url:https%3A%2F%2Fwww.choicehot
 els.com%2Fwisconsin%2Fbrookfield%2Fcountry-inn-suites-hotels%2Fwi489%3Fdsc
 lid%3D69424934656679936%26gclid%3Deda76880f3c41be453620082687f82ea%26mc%3D
 mtbibhpxcx%26meta%3Dbinghpa_WI489_698177839_1242449453228144_localuniversa
 l_US_1_50_saturday_desktop_2025-06-07_default_AccountID%26pmf%3Dhpabing%26
 adults%3D2%26checkInDate%3D2025-06-07%26checkOutDate%3D2025-06-08" btn_ali
 gn="ubtn-center" btn_title_color="#FFFFFF" btn_bg_color="#517C3E" icon_siz
 e="32" btn_icon_pos="ubtn-sep-icon-at-left"][/vc_column][vc_column width="
 1/2"][vc_empty_space][vc_images_carousel images="26813\,26811\,26812" img_
 size="medium" autoplay="yes" hide_pagination_control="yes" wrap="yes" css_
 animation="appear" css=""][vc_empty_space][vc_empty_space][vc_images_carou
 sel images="26816\,26814\,26815" img_size="medium" autoplay="yes" hide_pag
 ination_control="yes" wrap="yes" css_animation="appear" css=""][vc_empty_s
 pace][vc_empty_space][vc_images_carousel images="26820\,26819\,26818" img_
 size="medium" autoplay="yes" hide_pagination_control="yes" wrap="yes" css_
 animation="appear" css=""][/vc_column][/vc_row][vc_row][vc_column][vc_sepa
 rator css=""][vc_column_text css=""]\nTHANK YOU SPONSORS!\n[/vc_column_tex
 t][/vc_column][/vc_row][vc_row][vc_column][vc_single_image image="26901" i
 mg_size="medium" alignment="center" css=""][vc_single_image image="25432" 
 img_size="medium" alignment="center" css=""][vc_single_image image="11833"
  img_size="medium" alignment="center" css=""][/vc_column][/vc_row]
LOCATION:De-Risking Center\, 16805 W. Cleveland Ave.\, New Berlin\, WI\, 53
 151\, United States
GEO:42.994429;-88.122811
X-APPLE-STRUCTURED-LOCATION;VALUE=URI;X-ADDRESS=16805 W. Cleveland Ave.\, N
 ew Berlin\, WI\, 53151\, United States;X-APPLE-RADIUS=100;X-TITLE=De-Riski
 ng Center:geo:42.994429,-88.122811
END:VEVENT
BEGIN:VTIMEZONE
TZID:America/Chicago
X-LIC-LOCATION:America/Chicago
BEGIN:DAYLIGHT
DTSTART:20250309T030000
TZOFFSETFROM:-0600
TZOFFSETTO:-0500
TZNAME:CDT
END:DAYLIGHT
END:VTIMEZONE
END:VCALENDAR