BEGIN:VCALENDAR
VERSION:2.0
PRODID:-//wp-events-plugin.com//7.2.3.1//EN
TZID:America/Chicago
X-WR-TIMEZONE:America/Chicago
BEGIN:VEVENT
UID:0-458@witruck.org
DTSTART;TZID=America/Chicago:20260514T100000
DTEND;TZID=America/Chicago:20260514T150000
DTSTAMP:20260327T144858Z
URL:https://witruck.org/events/seminar-vehicle-maintenance-5/
SUMMARY:SEMINAR - Vehicle Maintenance
DESCRIPTION:[vc_row][vc_column][vc_single_image image="27469" img_size="lar
 ge" alignment="center" css=""][/vc_column][/vc_row][vc_row][vc_column widt
 h="1/3"][vc_column_text css=""]\nHosted By\n[/vc_column_text][vc_single_im
 age image="25531" img_size="medium" alignment="center" css=""][/vc_column]
 [vc_column width="1/3"][vc_column_text css=""]\nRegistration\n[/vc_column_
 text][vc_column_text css=""]\nWMCA Member - $125\nSafety Council Member - 
 $100\nNon-Member - $150\nStudent Special - $25\n[/vc_column_text][ult_butt
 ons btn_title="REGISTER HERE (CREDIT CARD)" btn_link="url:https%3A%2F%2Fse
 curepayment.link%2Fwitruck%2Fdayseminar%2F" btn_align="ubtn-center" btn_ti
 tle_color="#FFFFFF" btn_bg_color="#DD3333" icon_size="32" btn_icon_pos="ub
 tn-sep-icon-at-left" btn_font_style="font-weight:bold\;" btn_font_size="de
 sktop:20px\;"][ult_buttons btn_title="REGISTER HERE (SEND INVOICE)" btn_li
 nk="url:https%3A%2F%2Fsecurepayment.link%2Fwitruck%2Fwmca-seminar-invoice%
 2F" btn_align="ubtn-center" btn_title_color="#FFFFFF" btn_bg_color="#74121
 2" icon_size="32" btn_icon_pos="ubtn-sep-icon-at-left" btn_font_style="fon
 t-weight:bold\;" btn_font_size="desktop:20px\;"][vc_column_text css=""]\nI
 nvoicing is only available for WMCA Members!\n[/vc_column_text][/vc_column
 ][vc_column width="1/3"][vc_column_text css=""]\nSchedule\n[/vc_column_tex
 t][vc_column_text css=""]\n9:30am - Registration Opens - Coffee &amp\; Pas
 tries\n10:00am - Seminar Begins\n12:00pm - Lunch\n1:00pm - Seminar Resumes
 \n3:00pm - Seminar Ends\n[/vc_column_text][/vc_column][/vc_row][vc_row][vc
 _column][vc_column_text css=""]\nCourse Overview:\n[/vc_column_text][vc_co
 lumn_text css=""]This seminar will help keep you in compliance with the Fe
 deral Motor Carrier Safety Administration (FMCSA) maintenance\, inspection
 \, and repair regulations\, and the Commercial Vehicle Safety Alliance (CV
 SA) out-of-service criteria.\n\nThe Seminar will include:\n\n 	Review of P
 art 393\, Parts and accessories necessary for safe operations\n 	Review of
  Part 396\, Inspection\, repair\, and maintenance\n 	Driver inspection and
  DVIR requirements\n 	Qualification of maintenance personnel\n 	Review of 
 CVSA out-of-service criteria\n 	CSA Basic Scores and the ISS\n 	FMCSA audi
 t procedures related to maintenance\n 	Best practices designed to assist i
 n compliance with the regulations\n\n[/vc_column_text][/vc_column][/vc_row
 ][vc_row][vc_column width="2/3"][vc_column_text css=""]\nSpeakers:\n[/vc_c
 olumn_text][vc_column_text css=""]Thomas Bray\n\nFormer Senior Business Ad
 visor and Editor\, J. J. Keller &amp\; Associates\, Inc.\n\nAs Senior Busi
 ness Advisor at J. J. Keller &amp\; Associates\, Inc.\, I assisted custome
 rs directly and by developing and working on print and online products.\n\
 nI am what is termed a subject matter expert\, and customers appreciate th
 e quick and clear guidance people in my position at J. J. Keller provide.\
 n\nIn the course of doing my job\, I contacted and worked with many regula
 tory and enforcement experts. This helps me develop my knowledge and skill
 s\, as well as better equipping me to help customers.\n\nJ. J. Keller is o
 ne of the companies that lives up to what it says. They talk about being a
  flexible and supportive employer and wanting to be an employer of choice 
 and a great place to work\, and they are all of those things.\n\nIn my tim
 e away from J. J. Keller\, I am a firefighter/AEMT for my local fire depar
 tment. My supervisors and managers at J. J. Keller have always been unders
 tanding of my “two lives” (J. J. Keller and the fire department). They
  have always supported me when my two lives collide\, and I have to be lat
 e due to being tied up on a call that came in right at shift change.[/vc_c
 olumn_text][/vc_column][vc_column width="1/3"][vc_empty_space][vc_single_i
 mage image="25051" img_size="medium" alignment="center" css=""][/vc_column
 ][/vc_row][vc_row][vc_column width="2/3"][vc_column_text css=""]Mark Abrah
 amson\n\nSenior Transportation Specialist | Acrisure\n\nMark has more than
  33 years of experience in the transportation safety industry\, all of whi
 ch have been dedicated to truck and bus safety. Prior to joining Acrisure 
 in 2017\, Marks' law enforcement career began in 1989 focusing on highway 
 safety initiatives with the Wisconsin State Patrol's Motor Carrier Enforce
 ment Division. This involved conducting roadside safety inspections\, HM i
 nspections\, career audits\, education\, and various law enforcement activ
 ities.\n\nIn 1995 while participating in the International Inspector Champ
 ionships he was awarded the "Grand Champion Award". In 1997\, he was promo
 ted to Sergeant supervising regional Motor Carrier enforcement operations 
 and earned his Certified Public Manager designation. In 2014\, Mark was pr
 omoted to supervision of the statewide Motor Carrier Enforcement and Inves
 tigation Unit.\n\nDuring his service Mark also served as WI State Patrol's
  Data Quality Review Administrator\, served on FMCSA's Technical Advisory 
 Group\, participated in CVSA committees\, and instructed for FMCSA's Natio
 nal Training Center. Mark is also past Chair of Wisconsin's Safety Managem
 ent Council.[/vc_column_text][/vc_column][vc_column width="1/3"][vc_empty_
 space][vc_single_image image="25409" img_size="medium" alignment="center" 
 css=""][/vc_column][/vc_row]
LOCATION:Fox Valley Technical College\, 1825 N. Bluemound Drive\, Appleton\
 , Wisconsin\, 54912\, United States
GEO:44.282358;-88.459086
X-APPLE-STRUCTURED-LOCATION;VALUE=URI;X-ADDRESS=1825 N. Bluemound Drive\, A
 ppleton\, Wisconsin\, 54912\, United States;X-APPLE-RADIUS=100;X-TITLE=Fox
  Valley Technical College:geo:44.282358,-88.459086
END:VEVENT
BEGIN:VTIMEZONE
TZID:America/Chicago
X-LIC-LOCATION:America/Chicago
BEGIN:DAYLIGHT
DTSTART:20260308T030000
TZOFFSETFROM:-0600
TZOFFSETTO:-0500
TZNAME:CDT
END:DAYLIGHT
END:VTIMEZONE
END:VCALENDAR