BEGIN:VCALENDAR
VERSION:2.0
PRODID:-//wp-events-plugin.com//7.2.3.1//EN
TZID:America/Chicago
X-WR-TIMEZONE:America/Chicago
BEGIN:VEVENT
UID:0-465@witruck.org
DTSTART;TZID=America/Chicago:20260714T083000
DTEND;TZID=America/Chicago:20260714T173000
DTSTAMP:20260421T164444Z
URL:https://witruck.org/events/lake-arrowhead-golf-outing-2026/
SUMMARY:Lake Arrowhead Golf Outing
DESCRIPTION:[vc_row][vc_column][vc_single_image image="27698" img_size="lar
 ge" alignment="center" css=""][vc_column_text css=""]\nJoin us in Nekoosa 
 at Lake Arrowhead Golf Course for our annual golf outing in July. It's alw
 ays an enjoyable time on the links\, regardless of skill level. Great priz
 es to be won at each hole challenge\, along with food\, drinks &amp\; cama
 raderie with fellow duffers.\n[/vc_column_text][/vc_column][/vc_row][vc_ro
 w][vc_column][vc_tta_tabs][vc_tta_section title="SCHEDULE" tab_id="1773854
 220794-7a80d926-57fe"][vc_column_text css=""]\n8:30AM - Registration Opens
 \nPractice balls available\n10:00AM - Shot gun start\nBoxed lunch provided
 \n3:30PM - Reception\nDinner\, raffles and prizes awarded\n[/vc_column_tex
 t][/vc_tta_section][vc_tta_section title="LOCATION" tab_id="1773854526519-
 6e17632e-b84c"][vc_single_image image="27699" img_size="medium" alignment=
 "center" css=""][vc_column_text css=""]\n1195 Apache Lane\, Nekoosa\, WI 5
 4457\nCourse:\nPines Course\nPhone:\n(715) 325-2929\n[/vc_column_text][/vc
 _tta_section][vc_tta_section title="REGISTRATION" tab_id="1773854220786-6c
 88a939-1544"][vc_column_text css=""]\n$650 - Team of 4 Registration\nRegis
 tration includes: golf fees\, golf cart\, range balls\, mulligans (1 per g
 olfer)\, golf cannon (1 per golfer)\, lunch\, dinner reception and prizes.
 \n$175 - Individual Registration\nRegistration includes: golf fees\, golf 
 cart\, mulligan\, golf cannon\, lunch\, dinner reception and prizes.\n$15 
 Only Lunch\n$40 Only Dinner\n[/vc_column_text][vc_column_text css=""]\nMUL
 LIGANS AND GOLF CANNON ARE INCLUDED!\n[/vc_column_text][ult_buttons btn_ti
 tle="REGISTER HERE (CREDIT CARD)" btn_link="url:https%3A%2F%2Fsecurepaymen
 t.link%2Fwitruck%2Fgolfouting-one%2F" btn_align="ubtn-center" btn_title_co
 lor="#DAFF01" btn_bg_color="#3D4F54" icon_size="32" btn_icon_pos="ubtn-sep
 -icon-at-left" btn_font_style="font-weight:bold\;" btn_font_size="desktop:
 18px\;"][ult_buttons btn_title="REGISTER HERE (SEND INVOICE)" btn_link="ur
 l:https%3A%2F%2Fsecurepayment.link%2Fwitruck%2Fgolf-outing-registration-an
 d-sponsorship-send-invoice%2F" btn_align="ubtn-center" btn_title_color="#D
 AFF01" btn_bg_color="#3D4F54" icon_size="32" btn_icon_pos="ubtn-sep-icon-a
 t-left" btn_font_style="font-weight:bold\;" btn_font_size="desktop:18px\;"
 ][vc_column_text css=""]\nInvoicing is for MEMBERS only!\n[/vc_column_text
 ][/vc_tta_section][vc_tta_section title="SPONSORSHIP" tab_id="177385440774
 6-734c7810-f6de"][vc_column_text css=""]\n$1\,500 - Eagle Sponsor\nReceive
 s complimentary golf foursome\, lunch &amp\; dinner for (4)\, hole sponsor
 ship\, and event promotion.\n$1\,000 - Birdie Sponsor\nReceives compliment
 ary golf for two\, lunch &amp\; dinner for two\, and event promotion.\n$50
 0 - Par Sponsor\nReceives complimentary golf for one\, lunch &amp\; dinner
  for one\, and event promotion.\n$300 - Hole Sponsor\nReceives company sig
 nage at a designated hole with the opportunity to set up on the course\, m
 eet with golfers and hand out promotional items/information.\n*If a hole s
 ponsor wants a golf cart for the day you must call the course directly to 
 arrange it yourself at (715) 325-2929*\n[/vc_column_text][ult_buttons btn_
 title="SPONSOR HERE (CREDIT CARD)" btn_link="url:https%3A%2F%2Fsecurepayme
 nt.link%2Fwitruck%2Fgolfouting-one%2F" btn_align="ubtn-center" btn_title_c
 olor="#DAFF01" btn_bg_color="#3D4F54" icon_size="32" btn_icon_pos="ubtn-se
 p-icon-at-left" btn_font_style="font-weight:bold\;" btn_font_size="desktop
 :18px\;"][ult_buttons btn_title="SPONSOR HERE (SEND INVOICE)" btn_link="ur
 l:https%3A%2F%2Fsecurepayment.link%2Fwitruck%2Fgolf-outing-registration-an
 d-sponsorship-send-invoice%2F" btn_align="ubtn-center" btn_title_color="#D
 AFF01" btn_bg_color="#3D4F54" icon_size="32" btn_icon_pos="ubtn-sep-icon-a
 t-left" btn_font_style="font-weight:bold\;" btn_font_size="desktop:18px\;"
 ][vc_column_text css=""]\nInvoicing is for MEMBERS only!\n[/vc_column_text
 ][/vc_tta_section][/vc_tta_tabs][/vc_column][/vc_row][vc_row][vc_column wi
 dth="1/3"][vc_single_image image="25468" img_size="medium" alignment="cent
 er" css=""][/vc_column][vc_column width="1/3"][vc_single_image image="2546
 9" img_size="medium" alignment="center" css=""][/vc_column][vc_column widt
 h="1/3"][vc_single_image image="25470" img_size="medium" alignment="center
 " css=""][/vc_column][/vc_row][vc_row][vc_column][vc_single_image image="2
 7764" img_size="full" alignment="center" css=""][/vc_column][/vc_row][vc_r
 ow][vc_column width="1/3"][vc_column_text css=""]\nEagle Sponsors\n[/vc_co
 lumn_text][vc_single_image image="27762" img_size="medium" alignment="cent
 er" css=""][vc_single_image image="25412" img_size="medium" alignment="cen
 ter" css=""][vc_single_image image="22270" img_size="medium" alignment="ce
 nter" css=""][/vc_column][vc_column width="1/3"][vc_column_text css=""]\nB
 irdie Sponsors\n[/vc_column_text][vc_single_image image="26805" img_size="
 medium" alignment="center" css=""][/vc_column][vc_column width="1/3"][vc_c
 olumn_text css=""]\nPar Sponsors\n[/vc_column_text][vc_single_image image=
 "26838" img_size="medium" alignment="center" css=""][/vc_column][/vc_row][
 vc_row][vc_column][vc_column_text css=""]\nHole Sponsors\n[/vc_column_text
 ][/vc_column][/vc_row][vc_row][vc_column width="1/3"][vc_single_image imag
 e="26679" img_size="medium" alignment="center" css=""][/vc_column][vc_colu
 mn width="1/3"][vc_single_image image="10986" img_size="medium" alignment=
 "center" css=""][vc_single_image image="13685" img_size="medium" alignment
 ="center" css=""][/vc_column][vc_column width="1/3"][vc_single_image image
 ="11114" img_size="medium" alignment="center" css=""][/vc_column][/vc_row]
END:VEVENT
BEGIN:VTIMEZONE
TZID:America/Chicago
X-LIC-LOCATION:America/Chicago
BEGIN:DAYLIGHT
DTSTART:20260308T030000
TZOFFSETFROM:-0600
TZOFFSETTO:-0500
TZNAME:CDT
END:DAYLIGHT
END:VTIMEZONE
END:VCALENDAR