BEGIN:VCALENDAR
VERSION:2.0
PRODID:-//wp-events-plugin.com//7.2.3.1//EN
TZID:America/Chicago
X-WR-TIMEZONE:America/Chicago
BEGIN:VEVENT
UID:0-443@witruck.org
DTSTART:20251113T080000Z
DTEND:20251113T170000Z
DTSTAMP:20251010T133626Z
URL:https://witruck.org/events/inspection-proof-cargo-securement-data-qs-a
 nd-compliance-strategies-seminar/
SUMMARY:Inspection-Proof: Cargo Securement\, Data Q’s\, and Compliance St
 rategies Seminar
DESCRIPTION:[vc_row][vc_column][vc_single_image image="27146" img_size="ful
 l" alignment="center" css=""][ult_buttons btn_title="REGISTER HERE" btn_li
 nk="url:https%3A%2F%2Fsecurepayment.link%2Fwitruck%2Fdayseminar%2F" btn_al
 ign="ubtn-center" btn_size="ubtn-large" btn_title_color="#FFFFFF" btn_bg_c
 olor="#DD3333" icon_size="32" btn_icon_pos="ubtn-sep-icon-at-left" btn_fon
 t_size="desktop:30px\;"][vc_column_text css=""]TOPIC: \n\nCargo Securement
 \, Data Q's\, and Compliance Strategies\n\nProper cargo securement is crit
 ical to fleet safety\, compliance\, and operational efficiency. This semin
 ar covers best practices for securing loads\, leveraging Data Q’s for mo
 nitoring and improvement\, and conducting general compliance observations 
 to help prevent negative roadside inspections and audits. Participants wil
 l gain practical strategies to reduce risk\, ensure regulatory compliance\
 , and protect both drivers and assets—tailored to fit the time allotted 
 for the session.\n\nPRESENTERS:\n\nMark Abrahamson\n\nRisk Advisor with Ac
 risure\, leveraging 27 years of service and training with the Wisconsin St
 ate Patrol. He partners with clients to identify risks\, strengthen safety
  programs\, and ensure compliance with industry regulations. With extensiv
 e expertise in accident prevention\, enforcement\, and training\, Mark hel
 ps organizations reduce exposure\, avoid costly deficiencies\, and build a
  culture where safety is the highest value.\n\n*** More speaker info to co
 me. ***\n\n&nbsp\;\n\nAGENDA:\n\n7:30 a.m.      Registration\n\n8:00 
 a.m.    Seminar\n\n12:00 noon   Lunch\n\n5:00 p.m.      Adjournment
 \n\n&nbsp\;\n\nCOST:\n\nSafety Council Members: $100\n\nWMCA Members: $125
 \n\nNon-Members: $150[/vc_column_text][/vc_column][/vc_row]
LOCATION:Fairway Transit\, 930 Silvernail Road\, Pewaukee\, WI\, 53072\, Un
 ited States
GEO:43.045583;-88.240528
X-APPLE-STRUCTURED-LOCATION;VALUE=URI;X-ADDRESS=930 Silvernail Road\, Pewau
 kee\, WI\, 53072\, United States;X-APPLE-RADIUS=100;X-TITLE=Fairway Transi
 t:geo:43.045583,-88.240528
END:VEVENT
END:VCALENDAR