BEGIN:VCALENDAR
VERSION:2.0
PRODID:-//wp-events-plugin.com//7.2.3.1//EN
TZID:America/Chicago
X-WR-TIMEZONE:America/Chicago
BEGIN:VEVENT
UID:0-464@witruck.org
DTSTART;TZID=America/Chicago:20260605T170000
DTEND;TZID=America/Chicago:20260605T190000
DTSTAMP:20260401T170758Z
URL:https://witruck.org/events/friday-night-lights-wmca-membership-drive/
SUMMARY:Friday Night Lights - WMCA Membership Drive
DESCRIPTION:[vc_row][vc_column][vc_single_image image="27684" img_size="FUL
 L" alignment="center" onclick="custom_link" css="" link="https://securepay
 ment.link/witruck/fridaynight/"][vc_column_text css=""]\nWe have an incred
 ible opportunity for WMCA members\, and it involves some of the biggest na
 mes in football!\n[/vc_column_text][vc_column_text css=""]\nWMCA is hostin
 g a Membership Drive at the high-profile Green Bay Charity Softball Game 
 at Neuroscience Group Field at Fox Cities Stadium (home of the Timber Ratt
 lers) in Appleton\, co-hosted by Jordan Love and Micah Parsons. We’ve se
 cured a block of complimentary tickets for members\, but we’re doing thi
 ngs a little differently to help grow our trucking community.\n[/vc_column
 _text][/vc_column][/vc_row][vc_row][vc_column][vc_tta_tabs][vc_tta_section
  title="AGENDA" tab_id="1773852364137-711561e5-2696"][vc_column_text css="
 "]\n\n 	5:00 PM – Stadium Gates open\n 	5:45 PM – Press Conference in 
 Batting Cages with Donald Driver and Jordan Love\n 	6:00 PM – Home Run D
 erby\n 	7:05 PM – Roster announced\, National Anthem\, Game begins\n\n[/
 vc_column_text][/vc_tta_section][vc_tta_section title="LOCATION" tab_id="1
 773852736137-c50c9349-5942"][vc_single_image image="27685" img_size="mediu
 m" alignment="center" css=""][vc_column_text css=""]\nNeuroscience Group F
 ield at Fox Cities Stadium\, Appleton\, WI.\nThe WMCA private group will b
 e in the Miller Lite Deck of the stadium.\n[/vc_column_text][/vc_tta_sec
 tion][vc_tta_section title="COST" tab_id="1773852450556-1d41315b-c45c"][vc
 _column_text css=""]Complimentary (for those who secure a spot based on th
 e priority criteria and availability of tickets). The WMCA reserves the ri
 ght to place strict limits on tickets offered.[/vc_column_text][ult_button
 s btn_title="REQUEST TICKETS" btn_link="url:https%3A%2F%2Fsecurepayment.li
 nk%2Fwitruck%2Ffridaynight%2F" btn_align="ubtn-center" btn_bg_color="#F7BD
 2B" icon_size="32" btn_icon_pos="ubtn-sep-icon-at-left" btn_font_size="des
 ktop:20px\;"][/vc_tta_section][vc_tta_section title="HOW TO GET TICKETS" t
 ab_id="1773852364143-1a4eb92f-d09e"][vc_column_text css=""]\nBecause ticke
 ts are extremely limited and expected to go fast\, we are implementing a p
 riority access system.  And since this is a Membership Drive\, we’re gi
 ving a higher priority to members who bring a non-member as a guest\, as f
 ollows:\n\nPriority 1:  Highest priority will be given to WMCA members wh
 o bring a non-member trucking company as their guest. This is the perfec
 t chance to show a peer the value of our association while enjoying the ga
 me.\nPriority 2:  Next highest priority will be to WMCA members who bring
  a non-member\, non-trucking company as their guest.\nPriority 3: Any rem
 aining tickets will be distributed to WMCA members on a first-come\, first
 -served waitlist.\n\nThe Bonus: Any member who brings a non-member guest 
 will be entered into an exclusive drawing for on-field access to meet the 
 players!\n[/vc_column_text][ult_buttons btn_title="REQUEST TICKETS" btn_li
 nk="url:https%3A%2F%2Fsecurepayment.link%2Fwitruck%2Ffridaynight%2F" btn_a
 lign="ubtn-center" btn_bg_color="#F7BD2B" icon_size="32" btn_icon_pos="ubt
 n-sep-icon-at-left" btn_font_size="desktop:20px\;"][/vc_tta_section][/vc_t
 ta_tabs][/vc_column][/vc_row][vc_row][vc_column][vc_column_text css=""]\nT
 he Charity Softball Game is a very popular event\, and these tickets will 
 go fast.  If you have a fellow trucking company in mind that should be pa
 rt of the WMCA\, now is the time to reach out to them.\n[/vc_column_text][
 vc_column_text css=""]\nLet’s hit a home run for the trucking industry a
 nd enjoy a great night at the ballpark!\n[/vc_column_text][/vc_column][/vc
 _row][vc_row][vc_column][vc_single_image image="27764" img_size="full" ali
 gnment="center" css=""][/vc_column][/vc_row][vc_row][vc_column width="1/3"
 ][vc_single_image image="26601" img_size="medium" alignment="center" css="
 "][/vc_column][vc_column width="1/3"][vc_single_image image="11801" img_si
 ze="medium" alignment="center" css=""][/vc_column][vc_column width="1/3"][
 vc_single_image image="25412" img_size="medium" alignment="center"][/vc_co
 lumn][/vc_row]
LOCATION:Neuroscience Group Field at Fox Cities Stadium\, 2400 N Casaloma D
 r\, Appleton\, WI 54913\, Appleton\, Wisconsin\, 54913\, United States
GEO:44.282955;-88.469334
X-APPLE-STRUCTURED-LOCATION;VALUE=URI;X-ADDRESS=2400 N Casaloma Dr\, Applet
 on\, WI 54913\, Appleton\, Wisconsin\, 54913\, United States;X-APPLE-RADIU
 S=100;X-TITLE=Neuroscience Group Field at Fox Cities Stadium:geo:44.282955
 ,-88.469334
END:VEVENT
BEGIN:VTIMEZONE
TZID:America/Chicago
X-LIC-LOCATION:America/Chicago
BEGIN:DAYLIGHT
DTSTART:20260308T030000
TZOFFSETFROM:-0600
TZOFFSETTO:-0500
TZNAME:CDT
END:DAYLIGHT
END:VTIMEZONE
END:VCALENDAR