BEGIN:VCALENDAR
VERSION:2.0
PRODID:-//wp-events-plugin.com//7.2.3.1//EN
TZID:America/Chicago
X-WR-TIMEZONE:America/Chicago
BEGIN:VEVENT
UID:0-412@witruck.org
DTSTART;TZID=America/Chicago:20250315T163000
DTEND;TZID=America/Chicago:20250315T210000
DTSTAMP:20250310T152728Z
URL:https://witruck.org/events/2025-annual-safety-awards-banquet/
SUMMARY:2025 Annual Safety Awards Banquet
DESCRIPTION:[vc_row][vc_column][vc_single_image image="26229" img_size="lar
 ge" alignment="center" css=""][/vc_column][/vc_row][vc_row][vc_column widt
 h="1/3"][vc_single_image image="26211" img_size="medium" alignment="center
 " css=""][/vc_column][vc_column width="1/3"][vc_column_text css=""]\nLocat
 ion\n[/vc_column_text][vc_column_text css=""]\nLambeau Field - Atrium Floo
 r\n1265 Lombardi Ave.\nGreen Bay\, WI 54304\n[/vc_column_text][/vc_column]
 [vc_column width="1/3"][vc_single_image image="26251" img_size="medium" al
 ignment="center" css=""][/vc_column][/vc_row][vc_row][vc_column width="2/3
 "][vc_tta_tabs style="modern" color="blue" active_section="1"][vc_tta_sect
 ion title="Agenda" tab_id="1731689406911-65bbf6f7-457e"][vc_column_text cs
 s=""]\nAgenda\n4:30 P.M. - 6:00 P.M. - Wisconsin Road Team Captains Recept
 ion\n5:00 P.M - Registration Opens\n5:30 P.M. - Reception\n6:30 P.M. - Wel
 come Message\, Invocation by Eric Imlay\, Schneider\nDinner\n7:15 P.M. - A
 wards Program Begins\nOpening remarks by Kim Conradt\, WMCA Safety Program
 s Coordinator\nSpeakers: Dave Batterman - North Central Utility\, WMCA Cha
 irman\, Kristina Boardman\, Secretary - WI Department of Transportation\nT
 om Bray\, Business Advisor - J.J. Keller &amp\; Associates\nProgram will a
 cknowledge:\nWisconsin Road Team Captains\n2024 Drivers of the Month\nHiwa
 y Heros\nAnnouncement of 2024 Driver of the Year\n\nRaffle\nClosing Remark
 s[/vc_column_text][/vc_tta_section][vc_tta_section title="Registration &am
 p\; Sponsorship" tab_id="1731689406922-89641eef-4776"][vc_column_text css=
 ""]\nRegistration\nIncludes opening reception appetizers\, plated dinner\,
  dessert and non-alcoholic beverages. Registration closes on March 7th\, 2
 025.\nCouple - $150\nIndividual - $80\nTable of Eight - $600\nRoad Team In
 dividual - $60\nRoad Team Spouse/Couple - $100\nDriver of the Month - Comp
 limentary\n[/vc_column_text][ult_buttons btn_title="REGISTER &amp\; SPONSO
 R HERE (CREDIT CARD)" btn_link="url:https%3A%2F%2Fsecurepayment.link%2Fwit
 ruck%2Fsafety-banquet-registration-and-sponsorship-credit-card%2F" btn_ali
 gn="ubtn-center" btn_title_color="#FFFFFF" btn_bg_color="#233D10" icon_siz
 e="32" btn_icon_pos="ubtn-sep-icon-at-left" btn_font_style="font-weight:bo
 ld\;" btn_font_size="desktop:18px\;"][ult_buttons btn_title="REGISTER &amp
 \; SPONSOR HERE (SEND INVOICE)" btn_link="url:https%3A%2F%2Fsecurepayment.
 link%2Fwitruck%2Fsafety-banquet-registration-and-sponsorship-send-invoice%
 2F" btn_align="ubtn-center" btn_bg_color="#DDDD2C" icon_size="32" btn_icon
 _pos="ubtn-sep-icon-at-left" btn_font_style="font-weight:bold\;" btn_font_
 size="desktop:18px\;"][vc_column_text css=""]\nInvoicing is only available
  for WMCA Members!\n[/vc_column_text][vc_column_text css=""]\nSponsorship\
 nReception (Host Bar) - $2\,000 (No Longer Available)\nReceive four regist
 rations to Safety Banquet\, promotion on dinner table\, projection reel\, 
 website &amp\; event signage.\n\nRoad Team Reception Sponsorship - $1\,000
 \nReceive three registrations to Safety Banquet\, promotion on dinner tabl
 e\, projection reel\, website &amp\; event signage.\n\nPlatinum - $1\,000\
 nReceive three registrations to Safety Banquet\, promotion on dinner table
 \, projection reel\, website &amp\; event signage.\n\nGold - $750\nReceive
  two registrations to Safety Banquet\, promotion on dinner table\, project
 ion reel\, website &amp\; event signage.\n\nSilver - $500\nReceive one reg
 istration to Safety Banquet\, promotion on dinner table\, projector reel\,
  website &amp\; event signage.\n\nBronze - $250\nReceive promotion on webs
 ite and event signage.[/vc_column_text][/vc_tta_section][vc_tta_section ti
 tle="Hotel Accommodations" tab_id="1731689869483-33f1f316-6cc3"][vc_column
 _text css=""]\nHotel Reservation\nLodge Kohler\n1950 S. Ridge Rd\, Green B
 ay\, WI 54304\nRoom Rate - $219\nRooms are available both Friday and Satur
 day night.\nBooking Link: http://www.lodgekohler.com/group\nGroup Code: 52
 2868\nPhone Number: (855) 407-7346\nWhen calling\, reference the group cod
 e &amp\; reiterate you're part of the Wisconsin Motor Carriers Association
  room block.\nCutoff date is February 24\, 2025\n[/vc_column_text][vc_sing
 le_image image="26215" img_size="medium" css=""][vc_column_text css=""]\nT
 undra Lodge\n865 Lombardi Avenue\, Green Bay\, WI 54304\nRoom Rate - $159.
 95 (includes 4 waterpark passes per room per day)\nRooms are available bot
 h Friday and Saturday night.\nPhone Number: (855) 886-3725\nWhen calling\,
  reference the group code &amp\; reiterate you're part of the Wisconsin Mo
 tor Carriers Association room block.\nCutoff date is February 24\, 2025\n[
 /vc_column_text][vc_single_image image="26214" img_size="medium" css=""][/
 vc_tta_section][vc_tta_section title="Lambeau Tours" tab_id="1732037268664
 -a9449114-c716"][vc_column_text css=""]\nClassic Stadium Tour\nClassic Sta
 dium Tours are an hour-long experience. Guests will get to see one of Lamb
 eau Field's premium seating areas and even go down to field level through 
 the Player's Tunnel. Along the way\, they will learn about the Packers his
 toric organization and stadium.\n\nYou can add this tour to your registrat
 ion by clicking one of the buttons on the registration tab. [/vc_column_t
 ext][vc_single_image image="26216" img_size="medium" css=""][vc_column_tex
 t css=""]\nHall of Fame Tour\nWith dynamic displays and interactive exhibi
 ts\, the Hall of Fame always has something new to discover. Embark on a jo
 urney through more than a century of football history by exploring the tea
 m's humble beginnings\, sitting at Vince Lombardi's desk and getting goose
 bumps in the 13 Below Ice Bowl Theater. Celebrate each era of Packers grea
 ts\, relive the heart-pounding victories and honor the greatness of each c
 hampionship in Hall of Fame's trophy room.\n\nYou can purchase tickets by 
 clicking here.[/vc_column_text][vc_single_image image="26217" img_size="me
 dium" css=""][/vc_tta_section][/vc_tta_tabs][vc_column_text css=""]\nMajor
  Sponsor\n[/vc_column_text][vc_single_image image="10968" img_size="large"
  alignment="center" css=""][vc_column_text css=""]\nHiway Hero Award Spons
 or\n[/vc_column_text][vc_single_image image="11309" img_size="large" align
 ment="center" css=""][vc_column_text css=""]\nReception Sponsor\n[/vc_colu
 mn_text][vc_single_image image="11623" img_size="full" alignment="center" 
 css=""][/vc_column][vc_column width="1/3"][vc_column_text css=""]\nJanuary
  - Kevin Parsons\nMarten Transport\n\nFebruary - Lacy Leonhart\nAmerica's 
 Service Line\n\nMarch - Keith Rahn\nBoots 2 Trucks\nApril - Steven Moritz\
 nBrakebush Transportation\n\nMay - Robert Haats\nSchneider\n\nJune - Roger
  Hines\nSkinner Transfer Corp.\n\nJuly - Eric Backhaus\nJohnsonville Truck
 ing\n\nAugust - Nick Jarntowski\nOld Dominion Freight Lines\n\nSeptember -
  Greg Magsam\nContract Transport Services\n\nOctober - William Bancroft\nW
 EL Companies\n\nNovember - Roger Guralski\nSchneider\n\nDecember - Duane S
 taveness\nFedEx\n[/vc_column_text][/vc_column][/vc_row][vc_row][vc_column]
 [vc_column_text css=""]\nPlatinum Sponsors\n[/vc_column_text][/vc_column][
 /vc_row][vc_row][vc_column width="1/2"][vc_single_image image="25432" img_
 size="medium" alignment="center" css=""][/vc_column][vc_column width="1/2"
 ][vc_single_image image="25412" img_size="medium" alignment="center" css="
 "][/vc_column][/vc_row][vc_row][vc_column][vc_column_text css=""]\nSilver 
 Sponsors\n[/vc_column_text][/vc_column][/vc_row][vc_row][vc_column width="
 1/3"][vc_single_image image="11304" img_size="medium" alignment="right" cs
 s=""][/vc_column][vc_column width="1/3"][vc_single_image image="9892" img_
 size="medium" alignment="center" css=""][/vc_column][vc_column width="1/3"
 ][vc_single_image image="11310" img_size="medium" alignment="right" css=""
 ][/vc_column][/vc_row][vc_row][vc_column width="1/2"][vc_column_text css="
 "]\nGold Sponsor\n[/vc_column_text][vc_single_image image="18725" alignmen
 t="center" css=""][/vc_column][vc_column width="1/2"][vc_column_text css="
 "]\nBronze Sponsor\n[/vc_column_text][vc_single_image image="18725" alignm
 ent="center" css=""][/vc_column][/vc_row][vc_row][vc_column][vc_separator]
 [/vc_column][/vc_row][vc_row][vc_column width="2/3"][vc_column_text css=""
 ]\nSpeakers\nKristina Boardman\, Secretary - Wisconsin Department of Trans
 portation\n\nIn September 2024\, Governor Tony Evers appointed Kristina Bo
 ardman to serve as Secretary of the Wisconsin Department of Transportation
  (WisDOT). WisDOT is one of the largest state agencies\, with more than 3\
 ,200 employees and a biennial budget of more than $8 billion.\n\nThe depar
 tment supports all modes of transportation\, including state highways\, lo
 cal roads\, railroads\, public transit systems\, airports\, and harbors. I
 n addition\, the department includes the Division of Motor Vehicles (DMV)\
 , which serves about 50\,000 customers each week\, and the Division of Sta
 te Patrol that enforces laws and assists motorists throughout the state.\n
 \nKristina's public service career began with the Wisconsin State Assembly
  in 1995. She transitioned to WisDOT in 2005 and held previous positions i
 ncluding Deputy Secretary\, DMV Administrator\, DMV Deputy Administrator\,
  and the Director of DMV Field Services.\n\nKristina enjoys both policy an
 d operations work and especially appreciates the rewarding work of serving
  the public through the implementation of new programs.\n\nKristina plays 
 an active role at the regional and national levels and served as Chair of 
 the American Association of Motor Vehicle Administrators (AAMVA) Internati
 onal Board of Directors for the 2022-23 federal fiscal year.\n\nKristina h
 as a Bachelor of Arts degree in political science from Augustana College i
 n Rock Island\, Illinois. Kristina and her husband live in Sun Prairie and
  have two adult children.\n\nThomas Bray\, Business Advisor - J.J. Keller 
 &amp\; Associates\, Inc.\n\nTom joined J.J. Keller &amp\; Associates\, Inc
 . in 2005 as an editor in the Transportation Publishing Department\, Edito
 rial Resource Area. Tom specializes in motor carrier safety and operations
  management. He serves as editor of the monthly Transportation Safety Mana
 gement Today newsletter for both print and online publication. Tom also co
 ntributes to the development of forms\, training programs and kits\, softw
 are\, and online services.\n\nBefore joining J.J. Keller &amp\; Associates
 \, Tom had 23 years of industry experience. While employed in the industry
 \, Tom held various safety-related positions\, including driver\, driver t
 rainer\, claims manager\, safety supervisor\, lead instructor\, and Safety
  Director. As Safety Director\, he was responsible for DOT compliance\, po
 licy development\, driver human resources\, driver training\, CDL testing\
 , and accident prevention for a fleet of 350 trucks and drivers.\n\nTom is
  involved in the National Private Truck Council\, Wisconsin Motor Carriers
  Association\, and Wisconsin Safety Management Council. He has completed a
 ll of the roadside inspector training courses offered by the Commercial Ve
 hicle Safety Alliance (CVSA) and has been a voting committee member and pr
 ogram secretary for CVSA. He is also an instructor at MidState Technical C
 ollege\, a chief officer and advanced emergency medical technician for the
  Amherst\, WI fire department\, and previously served as a fire investigat
 or on the Portage County Fire Investigation Task Force.[/vc_column_text][/
 vc_column][vc_column width="1/3"][vc_empty_space height="130px"][vc_single
 _image image="26582" img_size="medium" alignment="center" css=""][vc_empty
 _space height="350px"][vc_single_image image="25051" img_size="medium" ali
 gnment="center" css=""][/vc_column][/vc_row]
LOCATION:Lambeau Field\, 1265 Lombardi Ave. \, Green Bay\, WI\, 54304\, Uni
 ted States
GEO:44.501435;-88.06259
X-APPLE-STRUCTURED-LOCATION;VALUE=URI;X-ADDRESS=1265 Lombardi Ave. \, Green
  Bay\, WI\, 54304\, United States;X-APPLE-RADIUS=100;X-TITLE=Lambeau Field
 :geo:44.501435,-88.06259
END:VEVENT
BEGIN:VTIMEZONE
TZID:America/Chicago
X-LIC-LOCATION:America/Chicago
BEGIN:DAYLIGHT
DTSTART:20250309T030000
TZOFFSETFROM:-0600
TZOFFSETTO:-0500
TZNAME:CDT
END:DAYLIGHT
END:VTIMEZONE
END:VCALENDAR