BEGIN:VCALENDAR
VERSION:2.0
PRODID:-//wp-events-plugin.com//7.2.3.1//EN
TZID:America/Chicago
X-WR-TIMEZONE:America/Chicago
BEGIN:VEVENT
UID:0-463@witruck.org
DTSTART;TZID=America/Chicago:20260603T093000
DTEND;TZID=America/Chicago:20260603T170000
DTSTAMP:20260417T152511Z
URL:https://witruck.org/events/14th-annual-sporting-clays-shoot-2/
SUMMARY:14th Annual Sporting Clays Shoot
DESCRIPTION:[vc_row][vc_column][vc_single_image image="27678" img_size="lar
 ge" alignment="center" css=""][/vc_column][/vc_row][vc_row][vc_column][vc_
 column_text css=""]\nThis annual event is the primary fundraiser for the W
 MCA Foundation and always serves as a great networking opportunity.  \nWe
  have a great clay shoot line up for shooters along with the chance to win
  raffle &amp\; shooting game prizes!\n[/vc_column_text][/vc_column][/vc_ro
 w][vc_row][vc_column width="1/4"][vc_single_image image="26708" img_size="
 medium" alignment="center" css=""][/vc_column][vc_column width="1/4"][vc_s
 ingle_image image="26709" img_size="medium" alignment="center" css=""][/vc
 _column][vc_column width="1/4"][vc_single_image image="26712" img_size="me
 dium" alignment="center" css=""][/vc_column][vc_column width="1/4"][vc_sin
 gle_image image="26711" img_size="medium" alignment="center" css=""][/vc_c
 olumn][/vc_row][vc_row][vc_column][vc_tta_tabs active_section="1"][vc_tta_
 section title="OVERVIEW" tab_id="1773768588779-04bcf6bb-a8fd"][vc_column_t
 ext css=""]WHAT IS SPORTING CLAYS?\nSporting clays is a shotgun game in wh
 ich clay discs are presented in ways that mirror the flight patterns of bi
 rds. Each station has different features and unpredictable disc delivery.\
 n\nSome shots will be surprisingly easy and some border on impossible. Eac
 h shooter shoots 1 round of 50 sporting clays. Scoring is done on an indiv
 idual and team (4 shooters) basis.\n\nWHY ATTEND?\nThe Foundation generous
 ly supports organizations like the Special Olympics\, Salvation Army\, foo
 d pantries\, and the truck driving and diesel technician programs at the F
 ox Valley\, Chippewa Valley\, Waukesha County and Milwaukee Area technical
  colleges with scholarships up to $1\,000. Your support is greatly appreci
 ated!\n\nWHAT IS PROVIDED:\n• Explanation of the game\, rules and safety
  guidelines\n• Sporting Clay Course\n• Eye and ear protection\n• Lun
 ch\, (1) drink ticket\, appetizers following competition\n• Prizes for t
 he best and worst scores\n• Raffle for a shotgun and other prizes\n\nWHA
 T TO BRING:\n• Comfortable shoes\n• A shotgun - rentals available at M
 ilford Hills\n• Shells minimum 3 boxes per person. Everyone will shoot t
 he Flurry.[/vc_column_text][/vc_tta_section][vc_tta_section title="AGENDA"
  tab_id="1773768562523-80fa9ad9-bc92"][vc_column_text css=""]9:30am –Re
 gistration opens\nRaffle tickets will be available to purchase all day\nEy
 e protection and ear plugs supplied\n\n9:30am – 11:30am – Novice Shoot
 er &amp\; Five Stand Practice Round \nEducational session for the novice 
 shooter (Optional. Available to purchase at time of registration – $10 p
 er shooter)\n\n11:45am – Country Cookout Lunch Buffet\n\n\n12:30pm 
 – Mandatory Safety Speech &amp\; Event Review\n\n12:45pm – 3:00pm –
  Sporting Clays Course begins\nWe suggest wearing comfortable shoes. Ther
 e is considerable walking with portions of hilly terrain.\n\n3:00pm – 
 Reception with Appetizers\, Awards &amp\; Raffle\nRegistration includes (1
 ) drink ticket for use after the shoot has concluded.\n\nRAFFLES &amp\; DO
 NATIONS\nWe are accepting donations for raffle prizes. Please email Paige 
 at panderson@witruck.org for additional information. We will gladly accept
  them the day of the event or coordinate pick up beforehand. We greatly ap
 preciate your generosity and support! [/vc_column_text][/vc_tta_section][
 vc_tta_section title="REGISTRATION" tab_id="1773768446530-5301f6de-75fc"][
 vc_column_text css=""]\nRegistration\nSingle Shooter: $140\nTeam of Four: 
 $500\nFive Stand Practice Round: $10 per shooter\n1 Mulligan per shooter i
 s included!\n[/vc_column_text][ult_buttons btn_title="REGISTER HERE (CREDI
 T CARD)" btn_link="url:https%3A%2F%2Fsecurepayment.link%2Fwitruck%2Fsport-
 shooting-clays-registration-credit-card%2F" btn_align="ubtn-center" btn_ti
 tle_color="#FFFFFF" btn_bg_color="#E16416" icon_size="32" btn_icon_pos="ub
 tn-sep-icon-at-left" btn_font_style="font-weight:bold\;" btn_font_size="de
 sktop:16px\;"][ult_buttons btn_title="REGISTER HERE (SEND INVOICE)" btn_li
 nk="url:https%3A%2F%2Fsecurepayment.link%2Fwitruck%2Fsport-shooting-clays-
 registration-send-invoice%2F" btn_align="ubtn-center" btn_title_color="#FF
 FFFF" btn_bg_color="#E16416" icon_size="32" btn_icon_pos="ubtn-sep-icon-at
 -left" btn_font_style="font-weight:bold\;" btn_font_size="desktop:16px\;"]
 [vc_column_text css=""]\nInvoicing is for members only!\n[/vc_column_text]
 [/vc_tta_section][vc_tta_section title="SPONSORSHIP" tab_id="1773768446542
 -e8e11862-05c2"][vc_column_text css=""]\n10 Gauge Sponsor - $1\,000\nInclu
 des recognition online and at event\, company logo on luncheon table and f
 our (4) complimentary shooters.\n12 Gauge Sponsor - $500\nIncludes recogni
 tion online and at event\, company logo on luncheon table and two (2) comp
 limentary shooters.\n20 Gauge Sponsor - $250\nEvent and online recognition
 .\nAppetizer Sponsor – $500\nOnline &amp\; Event Recognition\, company l
 ogo signage at appetizer station\nSingle Station Sponsor - $150\nEvent and
  online recognition\, company signage at one station.\n[/vc_column_text][u
 lt_buttons btn_title="SPONSOR HERE (CREDIT CARD)" btn_link="url:https%3A%2
 F%2Fsecurepayment.link%2Fwitruck%2Fsport-shooting-clays-sponsorships-credi
 t-card%2F" btn_align="ubtn-center" btn_title_color="#FFFFFF" btn_bg_color=
 "#E16416" icon_size="32" btn_icon_pos="ubtn-sep-icon-at-left" btn_font_sty
 le="font-weight:bold\;" btn_font_size="desktop:16px\;"][ult_buttons btn_ti
 tle="SPONSOR HERE (SEND INVOICE)" btn_link="url:https%3A%2F%2Fsecurepaymen
 t.link%2Fwitruck%2Fsport-shooting-clays-sponsorships-send-invoice%2F" btn_
 align="ubtn-center" btn_title_color="#FFFFFF" btn_bg_color="#E16416" icon_
 size="32" btn_icon_pos="ubtn-sep-icon-at-left" btn_font_style="font-weight
 :bold\;" btn_font_size="desktop:16px\;"][vc_column_text css=""]\nInvoicing
  is for members only!\n[/vc_column_text][/vc_tta_section][/vc_tta_tabs][/v
 c_column][/vc_row][vc_row][vc_column][vc_single_image image="27764" img_si
 ze="full" alignment="center" css=""][/vc_column][/vc_row][vc_row][vc_colum
 n][vc_column_text css=""]\n10 Gauge Sponsors\n[/vc_column_text][/vc_column
 ][/vc_row][vc_row][vc_column width="1/3"][vc_single_image image="13685" im
 g_size="medium" alignment="center" css=""][vc_single_image image="13691" i
 mg_size="medium" alignment="center" css=""][/vc_column][vc_column width="1
 /3"][vc_single_image image="26968" img_size="medium" alignment="center" cs
 s=""][vc_single_image image="27718" img_size="medium" alignment="center" c
 ss=""][/vc_column][vc_column width="1/3"][vc_single_image image="11114" im
 g_size="medium" alignment="center" css=""][vc_single_image image="27832" i
 mg_size="medium" alignment="center" css=""][/vc_column][/vc_row][vc_row][v
 c_column][vc_column_text css=""]\n12 Gauge Sponsors\n[/vc_column_text][/vc
 _column][/vc_row][vc_row][vc_column width="1/2"][vc_single_image image="27
 016" img_size="medium" alignment="center" css=""][/vc_column][vc_column wi
 dth="1/2"][vc_single_image image="26838" img_size="medium" alignment="cent
 er" css=""][/vc_column][/vc_row][vc_row][vc_column][vc_column_text css=""]
 \nAppetizer Sponsors\n[/vc_column_text][/vc_column][/vc_row][vc_row][vc_co
 lumn][vc_single_image image="15574" img_size="medium" alignment="center" c
 ss=""][/vc_column][/vc_row]
LOCATION:Milford Hills Hunt Club\, W5670 French Rd\, Johnson Creek\, WI\, 5
 3038\, United States
GEO:43.134871;-88.810537
X-APPLE-STRUCTURED-LOCATION;VALUE=URI;X-ADDRESS=W5670 French Rd\, Johnson C
 reek\, WI\, 53038\, United States;X-APPLE-RADIUS=100;X-TITLE=Milford Hills
  Hunt Club:geo:43.134871,-88.810537
END:VEVENT
BEGIN:VTIMEZONE
TZID:America/Chicago
X-LIC-LOCATION:America/Chicago
BEGIN:DAYLIGHT
DTSTART:20260308T030000
TZOFFSETFROM:-0600
TZOFFSETTO:-0500
TZNAME:CDT
END:DAYLIGHT
END:VTIMEZONE
END:VCALENDAR